BEGIN:VCALENDAR
VERSION:2.0
PRODID:-//wp-events-plugin.com//7.2.3.1//EN
TZID:Europe/Berlin
X-WR-TIMEZONE:Europe/Berlin
BEGIN:VEVENT
UID:5720@frauenportal.koeln
DTSTART;TZID=Europe/Berlin:20250719T193000
DTEND;TZID=Europe/Berlin:20250719T213000
DTSTAMP:20250715T104217Z
URL:https://frauenportal.koeln/veranstaltungen/lucas-garcia-marin-solo-kla
 vier/
SUMMARY:Lucas García Marín - Solo Klavier
DESCRIPTION:Klassik &amp\; Emotionen.\n\nDer 10-jährige Musiker Lucas Garc
 ía Marín aus Madrid führt am Flügel durch die  Emotionen\, die wir so 
 spüren\, erleben\, veranschaulicht an klassischen Stücken von Chopin\, L
 iszt\, Mozart\, Beethoven etc.\n\nMusikprogramm:\nFantaisie-Impromptu – 
 Chopin.\nToccata und Fuge – J. S. Bach.\nSatz „Clair de lune“ – Be
 ethoven.\nPrélude\, Op. 28\, No. 4 – Chopin.\nLiebestraum – Liszt.\nR
 ondo alla Turca – Mozart.\nNocturne\, Op. 9\, No. 2 – Chopin.\nBoogie-
 Woogie-Mix (Eigenkomposition).\n\nDer junge Musiker spielt hingebungsvoll\
 , leidenschaftlich und begeistert das Publikum. Garantiert werden Emotione
 n bei diesem Konzert hervorgerufen\, vor allem auch ein großes Staunen\, 
 wie der junge Pianist spielt. Er zieht das Publikum in seinen Bann. Gänse
 haut pur!\n \nEintritt\, frei\, Hutspende erwünscht.
END:VEVENT
BEGIN:VTIMEZONE
TZID:Europe/Berlin
X-LIC-LOCATION:Europe/Berlin
BEGIN:DAYLIGHT
DTSTART:20250330T030000
TZOFFSETFROM:+0100
TZOFFSETTO:+0200
TZNAME:CEST
END:DAYLIGHT
END:VTIMEZONE
END:VCALENDAR