BEGIN:VCALENDAR
VERSION:2.0
PRODID:-//wp-events-plugin.com//7.2.3.1//EN
TZID:Europe/Berlin
X-WR-TIMEZONE:Europe/Berlin
BEGIN:VEVENT
UID:2558@frauenportal.koeln
DTSTART;TZID=Europe/Berlin:20200102T104500
DTEND;TZID=Europe/Berlin:20200102T111500
DTSTAMP:20191231T120957Z
URL:https://frauenportal.koeln/veranstaltungen/lucia-moholy-im-museum-ludw
 ig/
SUMMARY:Lucia Moholy im Museum Ludwig
DESCRIPTION:Fotogeschichte neu schreiben\n\nAnlässlich des Bauhaus-Jubilä
 ums zeigt die Ausstellung\, inwiefern Lucia Moholy (1894-1989) die Geschic
 hte der Fotografie neu schrieb. Sie wurde insbesondere durch ihre Bauhaus-
 Fotografien bekannt. Gemeinsam mit dem Fotohistoriker Erich Stenger plante
  sie\, ein Buch über die Geschichte der Fotografie zu schreiben. Der Aufs
 tieg der Nationalsozialisten trieb Moholy jedoch in die Emigration\, währ
 end Stenger in Deutschland zum gefragten Experten auf dem Gebiet wurde. Si
 e veröffentlichte daher selbstständig in London „A Hundred Years of Ph
 otography“.\n\nFührung mit Dr. Inge Schaefer\n\nVeranstalterin:\nKölne
 r Frauengeschichtsverein e.V.\n\nKontakt:\nTel.: 0221 / 24 82 65\, E-Mail:
  info@frauengeschichtsverein.de\n\nKosten / Anmeldung:\nAnmeldung und Vorv
 erkauf erforderlich!\nKostenbeitrag: 10 Euro zzgl. Museumseintritt für Ni
 cht-KölnerInnen (Bitte Personalausweis mitbringen)\n\nVeranstaltungsort:\
 nTreffpunkt: vor der Kasse des Museums Ludwig\, Heinrich-Böll-Platz\, 506
 67 Köln\, [map id=1018]
END:VEVENT
BEGIN:VTIMEZONE
TZID:Europe/Berlin
X-LIC-LOCATION:Europe/Berlin
BEGIN:STANDARD
DTSTART:20191027T020000
TZOFFSETFROM:+0200
TZOFFSETTO:+0100
TZNAME:CET
END:STANDARD
END:VTIMEZONE
END:VCALENDAR