BEGIN:VCALENDAR
VERSION:2.0
PRODID:-//wp-events-plugin.com//7.2.3.1//EN
TZID:Europe/Berlin
X-WR-TIMEZONE:Europe/Berlin
BEGIN:VEVENT
UID:1384@frauenportal.koeln
DTSTART;TZID=Europe/Berlin:20181107T123000
DTEND;TZID=Europe/Berlin:20181107T140000
DTSTAMP:20181031T161556Z
URL:https://frauenportal.koeln/veranstaltungen/lunching-ladies-koeln-2/
SUMMARY:Lunching Ladies Köln
DESCRIPTION: – Neue Gesichter\, frische Ideen\, kompetenter Austausch - \
 n\nEin kulinarischer Termin\, bei dem sich vernetzt und kennengelernt werd
 en kann und Kontakte vertieft werden können.\n\nInmitten des charmanten A
 mbientes mit französischem Touch der „Markthalle“ im Belgischen Viert
 el treffen sich Unternehmerinnen und tauschen sich aus – über’s Gesch
 äft\, ihr umfangreiches Wissen und ihre Erfahrungen. So profitieren – z
 wischen Vorspeise und Espresso zum Dessert – alle in der Runde vom kolle
 gialen Feedback in entspannter und lockerer Atmosphäre.\n\nVeranstalterin
 :\nSchöne Aussichten Rheinland\n\nAnsprechpartnerin:\nTina Petry und Eva 
 Kanis\, E-Mail: rheinland@schoene-aussichten.de\n\nKosten / Anmeldung:\nWi
 llkommen sind alle – Mitfrauen und interessierte Unternehmerinnen.\nBitt
 e ausreichend Visitenkarten mitbringen und unbedingt anmelden: tpetry@pixe
 lpets.de\n\nVeranstaltungsort:\n„Markthalle“\, Maastrichter Str. 45\, 
 50672 Köln\, [map id=13210]
END:VEVENT
BEGIN:VTIMEZONE
TZID:Europe/Berlin
X-LIC-LOCATION:Europe/Berlin
BEGIN:STANDARD
DTSTART:20181028T020000
TZOFFSETFROM:+0200
TZOFFSETTO:+0100
TZNAME:CET
END:STANDARD
END:VTIMEZONE
END:VCALENDAR