BEGIN:VCALENDAR
VERSION:2.0
PRODID:-//wp-events-plugin.com//7.2.3.1//EN
TZID:Europe/Berlin
X-WR-TIMEZONE:Europe/Berlin
BEGIN:VEVENT
UID:1768@frauenportal.koeln
DTSTART;TZID=Europe/Berlin:20190213T123000
DTEND;TZID=Europe/Berlin:20190213T140000
DTSTAMP:20190131T174444Z
URL:https://frauenportal.koeln/veranstaltungen/lunching-ladies-koeln-3/
SUMMARY:Lunching Ladies Köln
DESCRIPTION:Geschäftskontakte zum Nachtisch? \n\nZwischen Vor- und Nachspe
 ise tauschen sich Unternehmerinnen aus Köln und der Region aus – über
 ’s Geschäft\, ihre Erfahrungen und ihr Fachwissen. Alle Teilnehmerinnen
  profitieren so vom kollegialen Feedback in entspannter Runde. \n\nNach de
 m tollen Erfolg im letzten Jahr wird die Reihe mit Vergnügen fortgesetzt.
  Eine gute Gelegenheit bei leckerem Essen spannende Frauen aus dem Verband
  und andere Interessierte kennenzulernen.\n\nVeranstalterin:\nSchöne Auss
 ichten Rheinland\n\nAnsprechpartnerin:\nTina Petry und Eva Kanis\, E-Mail:
  rheinland@schoene-aussichten.de\n\nKosten / Anmeldung:\nWillkommen sind a
 lle – Mitfrauen und interessierte Unternehmerinnen. Speisen und Getränk
 e zahlen alle selbst.\nBitte ausreichend Visitenkarten mitbringen und unbe
 dingt anmelden: tpetry@pixelpets.de\n\nVeranstaltungsort:\n„Markthalle
 “\, Maastrichter Str. 45\, 50672 Köln\, [map id=13210]
END:VEVENT
BEGIN:VTIMEZONE
TZID:Europe/Berlin
X-LIC-LOCATION:Europe/Berlin
BEGIN:STANDARD
DTSTART:20181028T020000
TZOFFSETFROM:+0200
TZOFFSETTO:+0100
TZNAME:CET
END:STANDARD
END:VTIMEZONE
END:VCALENDAR