BEGIN:VCALENDAR
VERSION:2.0
PRODID:-//wp-events-plugin.com//7.2.3.1//EN
TZID:Europe/Berlin
X-WR-TIMEZONE:Europe/Berlin
BEGIN:VEVENT
UID:1942@frauenportal.koeln
DTSTART;TZID=Europe/Berlin:20190605T123000
DTEND;TZID=Europe/Berlin:20190605T140000
DTSTAMP:20190524T081034Z
URL:https://frauenportal.koeln/veranstaltungen/lunching-ladies-koeln-4/
SUMMARY:Lunching Ladies Köln
DESCRIPTION:Geschäftskontakte zum Nachtisch? \n\nZwischen Vor- und Nachspe
 ise tauschen sich Unternehmerinnen und Freiberufler&shy\;innen aus Köln u
 nd der Region regelmässig aus – über’s Geschäft\, ihre Erfahrungen 
 und ihr Fachwissen. Alle Teilnehmerinnen profitieren so vom kollegialen Fe
 edback in entspannter Runde. \n\nDas sind mehr als genug Gründe die Veran
 staltungs-Reihe mit Vergnügen fort&shy\;zu&shy\;setzen. Eine gute Gelegen
 heit bei leckerem Essen spannende Frauen aus dem Verband und andere Intere
 ssierte kennenzulernen.\n\nVeranstalterin:\nSchöne Aussichten Rheinland\n
 \nAnsprechpartnerin:\nTina Petry und Eva Kanis\, E-Mail: rheinland@schoene
 -aussichten.de\n\nKosten / Anmeldung:\nWillkommen sind alle – Mitfrauen 
 und interessierte Unternehmerinnen. Speisen und Getränke zahlen alle selb
 st.\nBitte ausreichend Visitenkarten mitbringen und unbedingt anmelden: tp
 etry@pixelpets.de\n\nVeranstaltungsort:\n„Markthalle“\, Maastrichter S
 tr. 45\, 50672 Köln\, [map id=13210]
END:VEVENT
BEGIN:VTIMEZONE
TZID:Europe/Berlin
X-LIC-LOCATION:Europe/Berlin
BEGIN:DAYLIGHT
DTSTART:20190331T030000
TZOFFSETFROM:+0100
TZOFFSETTO:+0200
TZNAME:CEST
END:DAYLIGHT
END:VTIMEZONE
END:VCALENDAR