BEGIN:VCALENDAR
VERSION:2.0
PRODID:-//wp-events-plugin.com//7.2.3.1//EN
TZID:Europe/Berlin
X-WR-TIMEZONE:Europe/Berlin
BEGIN:VEVENT
UID:1773@frauenportal.koeln
DTSTART;TZID=Europe/Berlin:20190216T140000
DTEND;TZID=Europe/Berlin:20190216T160000
DTSTAMP:20190131T190500Z
URL:https://frauenportal.koeln/veranstaltungen/macht-mode-frauen-maechtig-
 fast-fashion-2/
SUMMARY:Macht Mode Frauen mächtig? - Fast Fashion
DESCRIPTION:Die Ausstellung „Fast Fashion – Die Schattenseiten der Mode
 “ wurde in Reaktion auf den Einsturz der Nähfabrik „Rana Plaza“ in 
 Bangladesh 2013 vom Museum für Kunst und Gewerbe Hamburg konzipiert.\n\nD
 ieser erste Teil der Ausstellung zeigt die vor allem negativen Auswirkunge
 n der Mode auf Hersteller*innen\, Konsument*innen und Umwelt. Billige Klei
 dung wird in bis zu 16 Kollektionen pro Jahr auf den Markt geworfen\, für
  deren Produktion vor allem Frauen aus Südost-Asien die Konsequenzen trag
 en müssen. Auf der anderen Seite sind es vor allem Frauen\, die diese Mod
 e konsumieren.\n\nIm zweiten Teil der Ausstellung werden verschiedene Proj
 ekte aus außereuropäischen Ländern vorgestellt\, in denen zum Teil sehr
  alte traditionelle und nachhaltige Textiltechniken grade von Frauen genut
 zt werden\, um ihre Lebenssituation zu verbessern.\n\nVeranstalterin:\nKö
 lner Frauengeschichtsverein e.V.\n\nKontakt:\nTel.: 0221 / 24 82 65\, E-Ma
 il: info@frauengeschichtsverein.de\n\nKosten / Anmeldung:\nAnmeldung und V
 orverkauf erforderlich!\nKostenbeitrag: 12\,50 Euro (für die Führung und
  Abgabe für den Museumspädagogischen Dienst) zzgl. ermäßigter Eintritt
 \n\nVeranstaltungsort:\nTreffpunkt: Kasse des Rautenstrauch-Joest-Museums\
 , Cäcilienstr. 29-33\, 50676 Köln\, [map id=927]
END:VEVENT
BEGIN:VTIMEZONE
TZID:Europe/Berlin
X-LIC-LOCATION:Europe/Berlin
BEGIN:STANDARD
DTSTART:20181028T020000
TZOFFSETFROM:+0200
TZOFFSETTO:+0100
TZNAME:CET
END:STANDARD
END:VTIMEZONE
END:VCALENDAR