BEGIN:VCALENDAR
VERSION:2.0
PRODID:-//wp-events-plugin.com//7.2.3.1//EN
TZID:Europe/Berlin
X-WR-TIMEZONE:Europe/Berlin
BEGIN:VEVENT
UID:4265@frauenportal.koeln
DTSTART;TZID=Europe/Berlin:20230427T190000
DTEND;TZID=Europe/Berlin:20230427T210000
DTSTAMP:20230331T114007Z
URL:https://frauenportal.koeln/veranstaltungen/maedchen-sein-im-spannungsf
 eld-zwischen-anspruch-und-wirklichkeit/
SUMMARY:Mädchen sein – Im Spannungsfeld zwischen Anspruch und Wirklichke
 it
DESCRIPTION:Die Beraterin bei der Lobby für Mädchen im Mädchenzentrum I\
 , Lara Kauermann\, gibt Einblick in ihre alltäglche Arbeit mit Mädchen u
 nd jungen Frauen in Köln. Neben einem kurzen Input über die vielfältige
 n Tätigkeitsbereiche der stadtweiten Beratungsstelle wird mehr über die 
 heutigen Lebensrealitäten und die damit verbundenen Herausforderungen fü
 r Mädchen und junge Frauen zu erfahren sein.\n\nReferentin:\nLara Kauerma
 nn\n\nVeranstalterin:\nBeginen Köln e.V. in Kooperation mit der Lobby fü
 r Mädchen e.V.\n\nAnsprechpartnerin:\nChristine Müthrath\, Tel.: 0221 / 
 9655820\, E-Mail: info@beginen.de\n\nKosten:\nKostenbeitrag: 8\,- € / 5\
 ,- €\n(Ermäßigte Beiträge gelten für Vereinsfrauen und Kölnpass-Inh
 aberInnen)
LOCATION:Beginenfenster Köln\, Markmannsgasse 7\, 50667 Köln
GEO:50.936778;6.961977
X-APPLE-STRUCTURED-LOCATION;VALUE=URI;X-ADDRESS=Markmannsgasse 7\, Köln\, 
 50667\, Frauenorganisation\, Deutschland;X-APPLE-RADIUS=100;X-TITLE=Begine
 nfenster Köln:geo:50.936778,6.961977
END:VEVENT
BEGIN:VTIMEZONE
TZID:Europe/Berlin
X-LIC-LOCATION:Europe/Berlin
BEGIN:DAYLIGHT
DTSTART:20230326T030000
TZOFFSETFROM:+0100
TZOFFSETTO:+0200
TZNAME:CEST
END:DAYLIGHT
END:VTIMEZONE
END:VCALENDAR