BEGIN:VCALENDAR
VERSION:2.0
PRODID:-//wp-events-plugin.com//7.2.3.1//EN
TZID:Europe/Berlin
X-WR-TIMEZONE:Europe/Berlin
BEGIN:VEVENT
UID:3207@frauenportal.koeln
DTSTART;TZID=Europe/Berlin:20210315T190000
DTEND;TZID=Europe/Berlin:20210315T200000
DTSTAMP:20210303T151424Z
URL:https://frauenportal.koeln/veranstaltungen/maria-2-0-betet-digital-fue
 r-eine-geschlechtergerechte-kirche-2/
SUMMARY:Maria 2.0 betet digital für eine geschlechtergerechte Kirche
DESCRIPTION:Die Gruppe Maria 2.0 St. Agnes\, Köln\, läd um 19.00 Uhr zum 
 Montagsgebet ein. Es ist offen für alle\, die sich angesprochen fühlen.\
 n\nIm Mittelpunkt steht dieses Mal die biblische Erzählung von der "Heilu
 ng der gekrümmten Frau“. Es wird um das gehen\, was niederdrückt aber 
 auch um Heilung\, Aufrichtung und Ermächtigung. \n\nMaria 2.0 ist entstan
 den durch den gerechten Zorn über den Umgang mit der sexualisierten Gewal
 t in der katholischen Kirche\, vor allem durch Bischöfe und Päpste. \n\n
 Nach dem Gebet können alle\, die noch Lust und Zeit haben\, miteinander d
 igital in Austausch treten. Wer gehen möchte\, kann sich einfach per Chat
  verabschieden und für sich das Video beenden.\n\nJede/r bestimmt selbst\
 , mit welchem Namen sie/er auf dem Bildschirm erscheinen will\, und kann d
 ie Kamera an- oder ausschalten\, je nachdem\, ob sie/er gesehen werden mö
 chte.\n\nDas Gebet beginnt um 19.00 Uhr. Ab 18.45 Uhr ist Einlass.\n\nVera
 nstalterin:\nInitiativkreis Maria 2.0\, St. Agnes Köln\n\nKontakt:\nMarti
 na Brauckmann-Kleis\, Tel.: 0221 / 4718058\, E-Mail: m.brauckmann-kleis@on
 line.de\n\nAnmeldung:\nWillkommen sind alle Menschen\, egal wie sie ihr Ge
 schlecht definieren\, Frauen und Männer. Hier ist der Link:\nhttps://zoom
 .us/j/93197269916?pwd=QXdIZHIrNGpaL0U1T2FoTXZGL0hXQT09\nMeeting-ID: 931 97
 26 9916\nKenncode: ii37vn\n\nVeranstaltungsort:\nonline
END:VEVENT
BEGIN:VTIMEZONE
TZID:Europe/Berlin
X-LIC-LOCATION:Europe/Berlin
BEGIN:STANDARD
DTSTART:20201025T020000
TZOFFSETFROM:+0200
TZOFFSETTO:+0100
TZNAME:CET
END:STANDARD
END:VTIMEZONE
END:VCALENDAR