BEGIN:VCALENDAR
VERSION:2.0
PRODID:-//wp-events-plugin.com//7.2.3.1//EN
TZID:Europe/Berlin
X-WR-TIMEZONE:Europe/Berlin
BEGIN:VEVENT
UID:3216@frauenportal.koeln
DTSTART;TZID=Europe/Berlin:20210419T190000
DTEND;TZID=Europe/Berlin:20210419T200000
DTSTAMP:20221130T084914Z
URL:https://frauenportal.koeln/veranstaltungen/maria-2-0-betet-digital-fue
 r-eine-geschlechtergerechte-kirche-3/
SUMMARY:Maria 2.0 betet digital für eine geschlechtergerechte Kirche
DESCRIPTION:Die Gruppe Maria 2.0 St. Agnes\, Köln\, läd um 19.00 Uhr zum 
 Montagsgebet ein. Es ist offen für alle\, die sich angesprochen fühlen.\
 n\nDieses ml lautet das Thema: "Atem aus Licht"\n\nMaria 2.0 ist entstande
 n durch den gerechten Zorn über den Umgang mit der sexualisierten Gewalt 
 in der katholischen Kirche\, vor allem durch Bischöfe und Päpste.\n\nNac
 h dem Gebet können alle\, die noch Lust und Zeit haben\, miteinander digi
 tal in Austausch treten. Wer gehen möchte\, kann sich einfach per Chat ve
 rabschieden und für sich das Video beenden.\n\nJede/r bestimmt selbst\, m
 it welchem Namen sie/er auf dem Bildschirm erscheinen will\, und kann die 
 Kamera an- oder ausschalten\, je nachdem\, ob sie/er gesehen werden möcht
 e.\n\nDas Gebet beginnt um 19.00 Uhr. Ab 18.45 Uhr ist Einlass.\n\nVeranst
 alterin:\nInitiativkreis Maria 2.0\, St. Agnes Köln\n\nKontakt:\nMartina 
 Brauckmann-Kleis\, Tel.: 0221 / 4718058\, E-Mail: m.brauckmann-kleis@onlin
 e.de\n\nAnmeldung:\nWillkommen sind alle Menschen\, egal wie sie ihr Gesch
 lecht definieren\, Frauen und Männer.\n\nVeranstaltungsort:\nonline
END:VEVENT
BEGIN:VTIMEZONE
TZID:Europe/Berlin
X-LIC-LOCATION:Europe/Berlin
BEGIN:DAYLIGHT
DTSTART:20210328T030000
TZOFFSETFROM:+0100
TZOFFSETTO:+0200
TZNAME:CEST
END:DAYLIGHT
END:VTIMEZONE
END:VCALENDAR