BEGIN:VCALENDAR
VERSION:2.0
PRODID:-//wp-events-plugin.com//7.2.3.1//EN
TZID:Europe/Berlin
X-WR-TIMEZONE:Europe/Berlin
BEGIN:VEVENT
UID:3168@frauenportal.koeln
DTSTART;TZID=Europe/Berlin:20210215T190000
DTEND;TZID=Europe/Berlin:20210215T200000
DTSTAMP:20210211T091113Z
URL:https://frauenportal.koeln/veranstaltungen/maria-2-0-betet-digital-fue
 r-eine-geschlechtergerechte-kirche/
SUMMARY:Maria 2.0 betet digital für eine geschlechtergerechte Kirche
DESCRIPTION:Die Gruppe Maria 2.0 St. Agnes\, Köln\, läd um 19.00 Uhr zum 
 Montagsgebet ein. Es ist offen für alle\, die sich angesprochen fühlen.\
 n\nMaria 2.0 ist entstanden durch den gerechten Zorn über den Umgang mit 
 der sexualisierten Gewalt in der katholischen Kirche\, vor allem durch Bis
 chöfe und Päpste. \n\nNach dem Gebet können alle\, die noch Lust und Ze
 it haben\, miteinander digital in Austausch treten. Wer gehen möchte\, ka
 nn sich einfach per Chat verabschieden und für sich das Video beenden.\n\
 nJede/r bestimmt selbst\, mit welchem Namen sie/er auf dem Bildschirm ersc
 heinen will\, und kann die Kamera an- oder ausschalten\, je nachdem\, ob s
 ie/er gesehen werden möchte.\n\nDas Gebet beginnt um 19.00 Uhr. Ab 18.45 
 Uhr ist Einlass.\n\nVeranstalterin:\nInitiativkreis Maria 2.0\, St. Agnes 
 Köln\n\nKontakt:\nMartina Brauckmann-Kleis\, Tel.: 0221 / 4718058\, E-Mai
 l: m.brauckmann-kleis@online.de\n\nAnmeldung:\nWillkommen sind alle Mensch
 en\, egal wie sie ihr Geschlecht definieren\, Frauen und Männer. Hier ist
  der Link:\nhttps://uni-koeln.zoom.us/j/96138906596?pwd=TFoycFUrd1g0cEkzV1
 ArRkhSQmZtdz09\nMeeting-ID: 998 9031 7074\nPasswort: 428763\n\nVeranstaltu
 ngsort:\nonline
END:VEVENT
BEGIN:VTIMEZONE
TZID:Europe/Berlin
X-LIC-LOCATION:Europe/Berlin
BEGIN:STANDARD
DTSTART:20201025T020000
TZOFFSETFROM:+0200
TZOFFSETTO:+0100
TZNAME:CET
END:STANDARD
END:VTIMEZONE
END:VCALENDAR