BEGIN:VCALENDAR
VERSION:2.0
PRODID:-//wp-events-plugin.com//7.2.3.1//EN
TZID:Europe/Berlin
X-WR-TIMEZONE:Europe/Berlin
BEGIN:VEVENT
UID:3373@frauenportal.koeln
DTSTART;TZID=Europe/Berlin:20211018T190000
DTEND;TZID=Europe/Berlin:20211018T200000
DTSTAMP:20211018T085502Z
URL:https://frauenportal.koeln/veranstaltungen/maria-2-0-betet-fuer-eine-g
 eschlechtergerechte-kirche/
SUMMARY:Maria 2.0 betet für eine geschlechtergerechte Kirche
DESCRIPTION:Die Gruppe Maria 2.0 St. Agnes\, Köln\, läd um 19.00 Uhr zum 
 Montagsgebet ein. Es ist offen für alle\, die sich angesprochen fühlen.\
 n\nDas Thema in diesem Monat lautet: "Antworten / antworten". Vermutlich g
 eht es vielen so: Ausbleibende und unbefriedigende Antworten machen abwech
 selnd müde und wütend\, aber die Solidarität der vielen Menschen\, die 
 um die Erneuerung der Kirche ringen\, gibt auch Kraft und Hoffnung. \n\nAm
  Montagabend wird zum Auftanken eingeladen\, durch die Stille\, das gemein
 same Gebet und durch das Singen kraftvoller Lieder\, begleitet von Paola G
 ronau und Miriam Bender. Im Anschluss kann\, wer mag\, bei einem Glas Wein
  oder Wasser noch etwas zusammenbleiben.\n\nVeranstalterin:\nInitiativkrei
 s Maria 2.0\, St. Agnes Köln\n\nKontakt:\nMartina Brauckmann-Kleis\, Tel.
 : 0221 / 4718058\, E-Mail: m.brauckmann-kleis@online.de\n\nAnmeldung:\nEin
 e Anmeldung ist inzwischen nicht mehr erforderlich. Auch ist es erlaubt\, 
 mit mehreren Haushalten in einer Bank zu sitzen\, wenn es gewünscht ist. 
 Die Maske soll weiterhin getragen werden.\n\nVeranstaltungsort:\nAgneskirc
 he\, Roeckerath Platz\, 50670 Köln\, [map id=996]
END:VEVENT
BEGIN:VTIMEZONE
TZID:Europe/Berlin
X-LIC-LOCATION:Europe/Berlin
BEGIN:DAYLIGHT
DTSTART:20210328T030000
TZOFFSETFROM:+0100
TZOFFSETTO:+0200
TZNAME:CEST
END:DAYLIGHT
END:VTIMEZONE
END:VCALENDAR