BEGIN:VCALENDAR
VERSION:2.0
PRODID:-//wp-events-plugin.com//7.2.3.1//EN
TZID:Europe/Berlin
X-WR-TIMEZONE:Europe/Berlin
BEGIN:VEVENT
UID:2593@frauenportal.koeln
DTSTART;TZID=Europe/Berlin:20200316T190000
DTEND;TZID=Europe/Berlin:20200316T200000
DTSTAMP:20200316T075926Z
URL:https://frauenportal.koeln/veranstaltungen/maria-2-0-betet-in-st-agnes
 -koeln-fuer-eine-geschlechtergerechte-kirche-2020-03-16/
SUMMARY:Maria 2.0 betet in St. Agnes Köln für eine geschlechtergerechte K
 irche
DESCRIPTION:Der Termin findet nicht statt.\n\nDie Gruppe Maria 2.0 St. Agne
 s Köln läd jeden 3. Montag im Monat um 19.00 Uhr in der Agnes-Kirche\, K
 öln zum Montagsgebet ein. Es ist offen für alle\, die sich angesprochen 
 fühlen.\n\nDas Montagsgebet wird von unterschiedlichen Frauen des Initiat
 ivkreises Maria 2.0 St. Agnes Köln vorbereitet und bildet daher die groß
 e Vielfalt der Frauen ab. Es kann sehr unterschiedlich gestaltet werden\, 
 laut\, leise\, in Bewegung\, meditativ\, mit predigenden Frauen\, in und v
 or der Kirche\, biblisch\, am Feuer oder mit Brot. Immer wird es bei aller
  Variation gefeiert in Gemeinschaft\, geschlechtergerecht\, heilend\, mit 
 Feuer aus dem Herzen kommend\, kreativ\, Frauen beachtend\, in guter chris
 tlicher Tradition und gerichtet an Mutter und Vater im Himmel.\n\nMehr daz
 u: www.frauenbund-köln.de\n\nVeranstalterin:\nInitiativkreis St. Agnes - 
 Maria 2.0\, Facebook\n\nKontakt:\nMartina Brauckmann-Kleis\, Tel.: 0221 / 
 4718058\, E-Mail: m.brauckmann-kleis@online.de\n\nVeranstaltungsort:\nAgne
 skirche\, Roeckerath Platz\, 50670 Köln\, [map id=996]
END:VEVENT
BEGIN:VTIMEZONE
TZID:Europe/Berlin
X-LIC-LOCATION:Europe/Berlin
BEGIN:STANDARD
DTSTART:20191027T020000
TZOFFSETFROM:+0200
TZOFFSETTO:+0100
TZNAME:CET
END:STANDARD
END:VTIMEZONE
END:VCALENDAR