BEGIN:VCALENDAR
VERSION:2.0
PRODID:-//wp-events-plugin.com//7.2.3.1//EN
TZID:Europe/Berlin
X-WR-TIMEZONE:Europe/Berlin
BEGIN:VEVENT
UID:2597@frauenportal.koeln
DTSTART;TZID=Europe/Berlin:20200720T190000
DTEND;TZID=Europe/Berlin:20200720T200000
DTSTAMP:20250502T083302Z
URL:https://frauenportal.koeln/veranstaltungen/maria-2-0-betet-in-st-agnes
 -koeln-fuer-eine-geschlechtergerechte-kirche-2020-07-20/
SUMMARY:"Maria 2.0" und "Maria\, schweige nicht Gottesdienst" zum Magdalene
 n-Tag in Köln
DESCRIPTION:Die Gruppe Maria 2.0 St. Agnes Köln läd jeden 3. Montag im Mo
 nat um 19.00 Uhr in der Agnes-Kirche\, Köln zum Montagsgebet ein. Es ist 
 offen für alle\, die sich angesprochen fühlen. Am 20.07.2020 wird zuglei
 ch auch der Magdalenen-Tag gefeiert. Aus der Einführung:\n\n"Ein vielgena
 nnter Buchtitel aus den 80er-Jahren lautet: Wenn Du geredet hättest\, Des
 demona. Es geht um „ungehaltene Reden ungehaltener Frauen“. Ja\, Fraue
 n wurden über die Jahrhunderte zum Schweigen angehalten\, Maria Magdalena
  aber hat nicht geschwiegen. Sie hat die Frohe Botschaft verkündet\, zum 
 Heil der ganzen Welt! Ihre Schwestern im Glauben allerdings wurden schon b
 ald zu vermeintlich schicklicher Zurückhaltung ermahnt\, zum Verstummen g
 ebracht! Doch was wäre\, wenn die treue Jüngerin aus Magdala geschwiegen
  und ihren Verkündigungsauftrag nicht angenommen hätte? Maria Magdalena 
 traute sich und ihrer Wahrnehmung\, vor allem aber vertraute sie Gott! Sie
  hat den von Gott Auferweckten gesehen\, sie rief er mit Namen\, ihr wurde
  der erste Verkündigungsauftrag zuteil. Sie glaubte\, sie vertraute - sie
  schwieg nicht: Gott sei Dank!"\n\nHier ist die Einladung: Plakat_Fest Mar
 ia Magdalena_2020\n\nVeranstalterin:\nMaria 2.0 Köln\, mariazweipunktnull
 -rheinland.de\n\nKontakt:\nMartina Brauckmann-Kleis\, Tel.: 0221 / 4718058
 \, E-Mail: m.brauckmann-kleis@online.de\n\nAnmeldung:\nDie Teilnehmerinnen
 zahl ist auf 100 begrenzt.\nCorona-bedingt ist eine Anmeldung erforderlich
  im Pfarrbüro St. Agnes\, Tel.: 0221 / 7880750. Falls Sie Ihre Anmeldung 
 auf dem Anrufbeantworter hinterlassen\, bitte mit dem vollständigem Namen
  und der Adresse jeder/jedes Teilnehmenden!\n\nVeranstaltungsort:\nAgneski
 rche\, Roeckerath Platz\, 50670 Köln\, [map id=996]
END:VEVENT
BEGIN:VTIMEZONE
TZID:Europe/Berlin
X-LIC-LOCATION:Europe/Berlin
BEGIN:DAYLIGHT
DTSTART:20200329T030000
TZOFFSETFROM:+0100
TZOFFSETTO:+0200
TZNAME:CEST
END:DAYLIGHT
END:VTIMEZONE
END:VCALENDAR