BEGIN:VCALENDAR
VERSION:2.0
PRODID:-//wp-events-plugin.com//7.2.3.1//EN
TZID:Europe/Berlin
X-WR-TIMEZONE:Europe/Berlin
BEGIN:VEVENT
UID:4018@frauenportal.koeln
DTSTART;TZID=Europe/Berlin:20230515T190000
DTEND;TZID=Europe/Berlin:20230515T200000
DTSTAMP:20230511T095933Z
URL:https://frauenportal.koeln/veranstaltungen/maria-2-0-betet-in-st-agnes
 -koeln-fuer-eine-geschlechtergerechte-kirche-3-2023-05-15/
SUMMARY:Maria 2.0 betet in St. Agnes Köln für eine geschlechtergerechte K
 irche
DESCRIPTION:Gebet um Gerechtigkeit in Kirche und Gesellschaft mit unterschi
 edlichen liturgischen Formen. Verwendet wird die Bibel in gerechter Sprach
 e.\n\nDieses Mal: \n\n"Jeder soll von da\, wo er ist\, einen Schritt nähe
 r kommen." (Navid Kermani) \nEin interreligiöses Montagsgebet mit Texten 
 über Frauengestalten in den heiligen Schriften\, vorgetragen von Frauen a
 us Judentum\, Islam\, Hinduismus und Christentum\, dazu Musik aus den vers
 chiedenen Kulturen.\n\nHier ist die Einladung: Maria 2.0 - Interreligiöse
 r Gottesdienst Mai 2023 (pdf-Datei\, 385 KB)\n\nDie Gruppe Maria 2.0 St. A
 gnes Köln läd jeden 3. Montag im Monat um 19.00 Uhr in der Agnes-Kirche\
 , Köln zum Montagsgebet ein. Es ist offen für alle\, die sich angesproch
 en fühlen.\n\nDas Montagsgebet wird von unterschiedlichen Frauen des Init
 iativkreises Maria 2.0 St. Agnes Köln vorbereitet und bildet daher die gr
 oße Vielfalt der Frauen ab. Es kann sehr unterschiedlich gestaltet werden
 \, laut\, leise\, in Bewegung\, meditativ\, mit predigenden Frauen\, in un
 d vor der Kirche\, biblisch\, am Feuer oder mit Brot. Immer wird es bei al
 ler Variation gefeiert in Gemeinschaft\, geschlechtergerecht\, heilend\, m
 it Feuer aus dem Herzen kommend\, kreativ\, Frauen beachtend\, in guter ch
 ristlicher Tradition und gerichtet an Mutter und Vater im Himmel.\n\nVeran
 stalterin:\nMaria 2.0 Köln\, mariazweipunktnull-rheinland.de\n\nKontakt:\
 nSilvia Schröder\, E-Mail: schroesil@web.de
LOCATION:Agneskirche\, Neusser Platz\, 50670 Köln
GEO:50.954443;6.957391
X-APPLE-STRUCTURED-LOCATION;VALUE=URI;X-ADDRESS=Neusser Platz\, Köln\, Nor
 drhein-Westfalen\, 50670\, Veranstaltungsort\, Deutschland;X-APPLE-RADIUS=
 100;X-TITLE=Agneskirche:geo:50.954443,6.957391
END:VEVENT
BEGIN:VTIMEZONE
TZID:Europe/Berlin
X-LIC-LOCATION:Europe/Berlin
BEGIN:DAYLIGHT
DTSTART:20230326T030000
TZOFFSETFROM:+0100
TZOFFSETTO:+0200
TZNAME:CEST
END:DAYLIGHT
END:VTIMEZONE
END:VCALENDAR