BEGIN:VCALENDAR
VERSION:2.0
PRODID:-//wp-events-plugin.com//7.2.3.1//EN
TZID:Europe/Berlin
X-WR-TIMEZONE:Europe/Berlin
BEGIN:VEVENT
UID:5304@frauenportal.koeln
DTSTART;TZID=Europe/Berlin:20250519T190000
DTEND;TZID=Europe/Berlin:20250519T200000
DTSTAMP:20250428T130607Z
URL:https://frauenportal.koeln/veranstaltungen/maria-2-0-betet-in-st-agnes
 -koeln-fuer-eine-geschlechtergerechte-kirche-5-2025-05-19/
SUMMARY:Maria 2.0 betet in St. Agnes Köln für eine geschlechtergerechte K
 irche
DESCRIPTION:Gebet um Gerechtigkeit in Kirche und Gesellschaft mit unterschi
 edlichen liturgischen Formen. Verwendet wird die Bibel in gerechter Sprach
 e.\n\nDie Gruppe Maria 2.0 St. Agnes Köln läd jeden 3. Montag im Monat u
 m 19.00 Uhr in der Agnes-Kirche\, Köln zum Montagsgebet ein. Es ist offen
  für alle\, die sich angesprochen fühlen.\n\nDieses Mal:\nMultireligiös
 es Montagsgebet zum Thema „Maria“ mit Texten und Livemusik aus verschi
 edenen Religionen.\n\nVeranstalterin:\nMaria 2.0 Köln\, mariazweipunktnul
 l-rheinland.de\n\nKontakt:\nSilvia Schröder\, E-Mail: Maria2.0.bw@gmail.c
 om
LOCATION:Agneskirche\, Neusser Platz\, 50670 Köln
GEO:50.954443;6.957391
X-APPLE-STRUCTURED-LOCATION;VALUE=URI;X-ADDRESS=Neusser Platz\, Köln\, Nor
 drhein-Westfalen\, 50670\, Veranstaltungsort\, Deutschland;X-APPLE-RADIUS=
 100;X-TITLE=Agneskirche:geo:50.954443,6.957391
END:VEVENT
BEGIN:VTIMEZONE
TZID:Europe/Berlin
X-LIC-LOCATION:Europe/Berlin
BEGIN:DAYLIGHT
DTSTART:20250330T030000
TZOFFSETFROM:+0100
TZOFFSETTO:+0200
TZNAME:CEST
END:DAYLIGHT
END:VTIMEZONE
END:VCALENDAR