BEGIN:VCALENDAR
VERSION:2.0
PRODID:-//wp-events-plugin.com//7.2.3.1//EN
TZID:Europe/Berlin
X-WR-TIMEZONE:Europe/Berlin
BEGIN:VEVENT
UID:3616@frauenportal.koeln
DTSTART;TZID=Europe/Berlin:20220108T140000
DTEND;TZID=Europe/Berlin:20220108T153000
DTSTAMP:20211231T123712Z
URL:https://frauenportal.koeln/veranstaltungen/maria-lassnig-sammlung-klew
 an/
SUMMARY:Maria Lassnig – Sammlung Klewan
DESCRIPTION:Die österreichische Künstlerin Maria Lassnig (1919–2014) gi
 lt als eine der wichtigsten Malerinnen der Gegenwart. In ihren schonungslo
 sen und zugleich humorvollen Bildern über das Körperbewusstsein\, die ab
 seits aller Stil- und Modeströmungen entstehen\, reflektiert sie sich Zei
 t ihres Lebens selbst und entwickelt einen eigenen künstlerischen Ausdruc
 k zwischen Abstraktion und Gegenständlichkeit. Während sie zunächst ihr
  Körpergefühl analysiert\, löst sie sich in den 1960er Jahren von stili
 stischen Zwängen und entwickelt eigene erzählerische Formen: Körperteil
 e verschmelzen mit Gegenständen und werden zu geometrischen Figuren\, mit
 unter in absurden karikaturenhaften Szenerien.\n\nVeranstalterin:\nKölner
  Frauengeschichtsverein e.V.\n\nKontakt:\nTel.: 0221 / 24 82 65\, E-Mail: 
 info@frauengeschichtsverein.de\n\nKosten / Anmeldung:\nKostenbeitrag: 10 
 € zzgl. Museumseintritt\nWegen Corona: 2 G - Ausweiskontrolle - Maskenpf
 licht - Abstand\nBitte anmelden: Tel.: 0221 / 24 82 65\, E-Mail: info@frau
 engeschichtsverein.de\n\nVeranstaltungsort:\nTreffpunkt: Eingang des Käth
 e-Kollwitz-Museums\, Neumarkt-Passage\, 4. OG\, Neumarkt 18-24\, 50667 Kö
 ln\, [map id=921]
END:VEVENT
BEGIN:VTIMEZONE
TZID:Europe/Berlin
X-LIC-LOCATION:Europe/Berlin
BEGIN:STANDARD
DTSTART:20211031T020000
TZOFFSETFROM:+0200
TZOFFSETTO:+0100
TZNAME:CET
END:STANDARD
END:VTIMEZONE
END:VCALENDAR