BEGIN:VCALENDAR
VERSION:2.0
PRODID:-//wp-events-plugin.com//7.2.3.1//EN
TZID:Europe/Berlin
X-WR-TIMEZONE:Europe/Berlin
BEGIN:VEVENT
UID:5051@frauenportal.koeln
DTSTART;TZID=Europe/Berlin:20240514T180000
DTEND;TZID=Europe/Berlin:20240514T190000
DTSTAMP:20240430T144426Z
URL:https://frauenportal.koeln/veranstaltungen/marienandacht-musikalisch-g
 estaltet-von-frauenchor-st-kolumba/
SUMMARY:Marienandacht musikalisch gestaltet von Frauenchor St.Kolumba
DESCRIPTION:– Maiandacht mit Musik\, Texten und Gebet zur Ehre Mariens 
 –\n\nVeranstaltende:\nSt. Kolumba – Franziskaner-Minoriten & Madonna i
 n den Trümmern\, www.katholisch-in-koeln.de/ueber-uns/st-kolumba/\nund: F
 rauenchor St. Kolumba\n\nAnsprechpartnerin:\nEmanuela Musso\, Tel.: 01522 
 / 4186916\, E-Mail: manumusso@live.it
LOCATION:Madonna in den Trümmern\, Kolumbastr. 2\, 50667 Köln
GEO:50.938419;6.954185
X-APPLE-STRUCTURED-LOCATION;VALUE=URI;X-ADDRESS=Kolumbastr. 2\, Köln\, Nor
 drhein-Westfalen\, 50667\, Veranstaltungsort\, Deutschland;X-APPLE-RADIUS=
 100;X-TITLE=Madonna in den Trümmern:geo:50.938419,6.954185
END:VEVENT
BEGIN:VTIMEZONE
TZID:Europe/Berlin
X-LIC-LOCATION:Europe/Berlin
BEGIN:DAYLIGHT
DTSTART:20240331T030000
TZOFFSETFROM:+0100
TZOFFSETTO:+0200
TZNAME:CEST
END:DAYLIGHT
END:VTIMEZONE
END:VCALENDAR