BEGIN:VCALENDAR
VERSION:2.0
PRODID:-//wp-events-plugin.com//7.2.3.1//EN
TZID:Europe/Berlin
X-WR-TIMEZONE:Europe/Berlin
BEGIN:VEVENT
UID:5232@frauenportal.koeln
DTSTART;TZID=Europe/Berlin:20241101T110000
DTEND;TZID=Europe/Berlin:20241101T130000
DTSTAMP:20241031T163234Z
URL:https://frauenportal.koeln/veranstaltungen/matinee-mit-musik-und-liter
 atur/
SUMMARY:Matinee mit Musik und Literatur
DESCRIPTION:Im Rahmen der Premierenwoche der GEDOK stellen sich drei neue M
 itglieder vor:\n\nAna-Marija Markovina präsentiert Werke von Fanny Hensel
 -Mendelssohn und Stefan Heucke\, denen sie ihre jüngsten CD-Einspielungen
  gewidmet hat.\n\nIn die Welt brasilianischer Musik entführt die Sängeri
 n Elsa Johanna Mohr\, die ihre Vielseitigkeit in verschiedenen Formationen
  beweist. Bei der Matinée ist sie als Solistin zu erleben. \n\nZudem stel
 lt sich Monika Littau mit eigenen Texten vor. \n\nHier ist die Einladung: 
 GEDOK_Premiere_2024_Einladung (pdf-Datei\, 2 MB)\n\nVeranstalterin:\nGEDOK
  Köln\n\nKontakt:\nGeschäftsstelle der GEDOK Köln\, Tel.: 0221 / 43 33 
 49\, E-Mail: info@gedok-koeln.de
LOCATION:Villa Henn\, Gocher Str. 19\, 50733 Köln
GEO:50.965434;6.949221
X-APPLE-STRUCTURED-LOCATION;VALUE=URI;X-ADDRESS=Gocher Str. 19\, Köln\, No
 rdrhein-Westfalen\, 50733\, Deutschland;X-APPLE-RADIUS=100;X-TITLE=Villa H
 enn:geo:50.965434,6.949221
END:VEVENT
BEGIN:VTIMEZONE
TZID:Europe/Berlin
X-LIC-LOCATION:Europe/Berlin
BEGIN:STANDARD
DTSTART:20241027T020000
TZOFFSETFROM:+0200
TZOFFSETTO:+0100
TZNAME:CET
END:STANDARD
END:VTIMEZONE
END:VCALENDAR