BEGIN:VCALENDAR
VERSION:2.0
PRODID:-//wp-events-plugin.com//7.2.3.1//EN
TZID:Europe/Berlin
X-WR-TIMEZONE:Europe/Berlin
BEGIN:VEVENT
UID:1839@frauenportal.koeln
DTSTART;TZID=Europe/Berlin:20190308T133000
DTEND;TZID=Europe/Berlin:20190308T170000
DTSTAMP:20190307T082311Z
URL:https://frauenportal.koeln/veranstaltungen/mehr-mut-ihr-frauen/
SUMMARY:Mehr Mut\, ihr Frauen!
DESCRIPTION:Straßenaktion vor dem Kulturbunker\nPodiumsdiskussion mit \nSe
 rap Güler\, Staatssekretärin für Integration des Landes NRW\,\nund Mari
 a Fichte\, Sozialraumkoordinator für Mülheim-Nord/Keupstraße\n\nAnschli
 eßend \n\nKultur-Event im Don-Bosco-Club\, Tiefenthalstraße 38\, 51063 K
 öln-Mülheim\, www.don-bosco-club.de\nmit Live-Musik\, Tanz und Modenscha
 u\n\nHier ist die Einladung: Mehr Mut Ihr Frauen 08.03.2019 (pdf-Datei\, 1
  MB)\n\nVeranstalterin:\nRomane Romnja\, www.facebook.com/AgoraNetzwerk\ni
 n Kooperation mit Gypsy Passion und Latscho Drom e.V.\, www.latscho-drom.d
 e\n\nKontakt:\nGordana Herold\, Tel.: 0171 / 98 50 256 \, E-Mail: romane.r
 omnja@yahoo.de\n\nKosten / Anmeldung:\nEintritt frei.\n\nVeranstaltungsort
 :\nKulturbunker Köln-Mülheim e.V.\, Berliner Str. 20\, 51063 Köln\, [ma
 p id=994]
END:VEVENT
BEGIN:VTIMEZONE
TZID:Europe/Berlin
X-LIC-LOCATION:Europe/Berlin
BEGIN:STANDARD
DTSTART:20181028T020000
TZOFFSETFROM:+0200
TZOFFSETTO:+0100
TZNAME:CET
END:STANDARD
END:VTIMEZONE
END:VCALENDAR