BEGIN:VCALENDAR
VERSION:2.0
PRODID:-//wp-events-plugin.com//7.2.3.1//EN
TZID:Europe/Berlin
X-WR-TIMEZONE:Europe/Berlin
BEGIN:VEVENT
UID:2478@frauenportal.koeln
DTSTART;TZID=Europe/Berlin:20191204T183000
DTEND;TZID=Europe/Berlin:20191204T210000
DTSTAMP:20191130T123604Z
URL:https://frauenportal.koeln/veranstaltungen/mehr-souveraenitaet-in-konf
 liktsituationen-konfliktstrategie/
SUMMARY:Mehr Souveränität in Konfliktsituationen - Konfliktstrategie
DESCRIPTION:Konflikte können sehr anstrengend sein\, sind aber oft unverme
 idbar. Wie gehen wir mit Konflikten um? Welche Strategien nutzen wir? Was 
 würde passieren\, wenn wir andere Strategien ausprobieren würden?\nIn ei
 nem geschützten Rahmen werden unterschiedliche Konfliktstrategien erkunde
 t. Die Teilnehmerinnen erweitern damit spielerisch die eigenen Handlungsop
 tionen und können in den nächsten Konflikten zu besseren Lösungen komme
 n.\n\nReferentin:\nDörte Schröder\, www.doerte-schroeder.de\n\nVeranstal
 terin:\nSchöne Aussichten Rheinland\n\nAnsprechpartnerin:\nTamara Citovic
 s\, E-Mail: rheinland@schoene-aussichten.de\n\nKosten / Anmeldung:\nEingel
 aden sind selbständige Frauen aller Branchen. Frauen\, die nicht Mitglied
  bei Schöne Aussichten sind\, zahlen einen Kostenbeitrag i.H.v. 15 Euro. 
 Um Anmeldung wird gebeten an rheinland@schoene-aussichten.de\n\nVeranstalt
 ungsort:\nLoft 33\, Josephstr. 31-33 (Hinterhaus)\, 50676 Köln\, [map id=
 12006]
END:VEVENT
BEGIN:VTIMEZONE
TZID:Europe/Berlin
X-LIC-LOCATION:Europe/Berlin
BEGIN:STANDARD
DTSTART:20191027T020000
TZOFFSETFROM:+0200
TZOFFSETTO:+0100
TZNAME:CET
END:STANDARD
END:VTIMEZONE
END:VCALENDAR