BEGIN:VCALENDAR
VERSION:2.0
PRODID:-//wp-events-plugin.com//7.2.3.1//EN
TZID:Europe/Berlin
X-WR-TIMEZONE:Europe/Berlin
BEGIN:VEVENT
UID:5731@frauenportal.koeln
DTSTART;TZID=Europe/Berlin:20251108T200000
DTEND;TZID=Europe/Berlin:20251108T223000
DTSTAMP:20250715T093536Z
URL:https://frauenportal.koeln/veranstaltungen/mein-lieblingssong-live-pod
 cast-mit-talk-musik/
SUMMARY:Mein Lieblingssong - Live-Podcast mit Talk & Musik
DESCRIPTION:Live-Podcast mit Stephan Falk und Andreas Ryll und zwei Talkgä
 sten aus der Kultur- und Musikszene.\n\nMit ihrem beliebten Podcast „Mei
 n Lieblingssong“ schaffen die beiden es seit August 2023\, Hörerinnen u
 nd Hörer wöchentlich mit einer neuen Folge\, einem neuen Gast und seinem
  Lieblingssong zu begeistern. Unterhaltsam\, tiefgründig und musikalisch 
 begleitet wird dieser Abend sowohl mit den Lieblingssongs der prominenten 
 Gäste als auch mit ihren persönlichen Geschichten.\n\nIm Hinterhofsalon 
 findet nun am 08.11.\, 20h ein Live-Podcast mit Aufzeichnung mit zwei toll
 en Talkgästen statt\, die über ihren Lieblingssong reden\, der natürlic
 h auch zu hören sein wird. Ein einzigartiges Erlebnis für Musikliebhaber
  und Freunde bewegender Geschichten.\n\nDie Talkgäste:\n\nCHRISTINA LUX:\
 nIst eine deutsche Musikerin\, Sängerin\, Gitarristin und Komponistin aus
  Karlsruhe. Sie lebt seit 1991 in Köln. Seit 1983 ist sie als Musikerin a
 ktiv und seit 1998 ist sie ausschließlich mit ihren eigenen Songs unterwe
 gs.\nBisher erschienen 11 Alben von ihr. Das Album "Leise Bilder" wurde 20
 18 mit dem Preis der deutschen Schallplattenkritik ausgezeichnet.\n\nSie b
 egann zunächst in lokalen Rockbands\, später in verschiedenen Jazz-Forma
 tionen. 1989 folgten Tourneen und Plattenaufnahmen als Background-Sängeri
 n mit Purple Schulz\, David Torn\, Edo Zanki\, Laith al Deen u. a. 1997 un
 d 1998 erschienen erste eigene Songs auf zwei CDs der Formation Vocaleros.
 \n\nChristina Lux flutet jeden Raum mit ihrer Stimme\, mit feinsinnigen Te
 xten in deutscher und englischer Sprache\, ganz ohne Allüren und Show. In
 tensiv und berührend und im nächsten Moment augenzwinkernd und kraftvoll
  in ihren Gedanken und Songs. Ihre Musik geht tief und das mag daran liege
 n\, wie alles anfing – mit ihrem Lieblingssong.\n \nLUDGER K:\n\nIst Kab
 arettist\, der auf vielen Bühnen in Deutschland seit Jahren auftritt. Sei
 t 3 Jahren tritt er 2 x im Jahr im Hinterhofsalon auf. Seine Shows sind st
 ets ausverkauft. Er begeistert sein Publikum mit einem grandiosen Unterhal
 tungswert. Auch er spricht über seinen Lieblingssong und warum er ihn bis
  heute begleitet.\n\nIm Talk mit Falk und Ryll geben die prominenten Gäst
 e Einblicke in die persönliche Bedeutung ihrer Lieblingssongs und teilen 
 berührende Geschichten\, die hinter die Kulissen ihrer Musikleidenschaft 
 blicken lassen. Persönliche Erinnerungen und starke Emotionen zu großart
 igen Songs erfährt das Publikum.\n\nEine Veranstaltung mit Live-Musik\, m
 it tollen Künstlern\, mit Geschichten und Emotionen.\n\nMusikalisch begle
 itet wird der Abend vom Kölner Musiker Winfried Bode\, der auch Gast war 
 im Podcast und seinen Lieblingssong live spielen wird mit Gitarre\, und vo
 m Allroundtalent Christof Mann am Keyboard.\n\nIm Anschluss Tanzparty! \n\
 nEintritt: 35\,00 € / erm. 29\,00 €\nVVK: www.koelnticket.de/artist/me
 in-lieblingssong-der-live-podcast/
END:VEVENT
BEGIN:VTIMEZONE
TZID:Europe/Berlin
X-LIC-LOCATION:Europe/Berlin
BEGIN:STANDARD
DTSTART:20251026T020000
TZOFFSETFROM:+0200
TZOFFSETTO:+0100
TZNAME:CET
END:STANDARD
END:VTIMEZONE
END:VCALENDAR