BEGIN:VCALENDAR
VERSION:2.0
PRODID:-//wp-events-plugin.com//7.2.3.1//EN
TZID:Europe/Berlin
X-WR-TIMEZONE:Europe/Berlin
BEGIN:VEVENT
UID:3155@frauenportal.koeln
DTSTART;TZID=Europe/Berlin:20210211T190000
DTEND;TZID=Europe/Berlin:20210211T210000
DTSTAMP:20201231T121328Z
URL:https://frauenportal.koeln/veranstaltungen/menschen-stark-machen/
SUMMARY:Menschen stark machen!
DESCRIPTION:Mindset Coaching und Selbstverteidigung.\n\nIn 1\,5 Stunden zei
 gt Tatjana Faranda\, was das eigene Mindset mit der persönlichen Selbstve
 rteidigung zu tun hat. Gestartet wird mit einem theoretischen Teil\, um er
 st einmal die Grundlage zu schaffen\, was Selbstverteidigung überhaupt be
 deutet. Im praktischen Teil wird gezeigt\, wie die eigenen Hemmungen abgeb
 aut werden können und mit welchen einfachen Techniken  auch physische Ve
 rteidigung möglich ist. An diesem spannender Abend können die Teilnehmer
 innen sich und ihre Grenzen noch besser kennenlernen.\n\nReferentin:\nTatj
 ana Faranda\, Phoenix Power\n\nVeranstalterinnen:\nBPW Germany Club Köln\
 n\nAnsprechpartnerin:\nJessica Espinoza\, Tel.: 0152 / 36989084\, E-Mail: 
 bpw-koeln@web.de\n\nKosten /Anmeldung:\nMitglieder frei\, Interessentinnen
  15 Euro\nDie Zugangsdaten zum Online-Meeting gibt es nach der Anmeldung u
 nter bpw-koeln@web.de.\n\nVeranstaltungsort:\nonline
END:VEVENT
BEGIN:VTIMEZONE
TZID:Europe/Berlin
X-LIC-LOCATION:Europe/Berlin
BEGIN:STANDARD
DTSTART:20201025T020000
TZOFFSETFROM:+0200
TZOFFSETTO:+0100
TZNAME:CET
END:STANDARD
END:VTIMEZONE
END:VCALENDAR