BEGIN:VCALENDAR
VERSION:2.0
PRODID:-//wp-events-plugin.com//7.2.3.1//EN
TZID:Europe/Berlin
X-WR-TIMEZONE:Europe/Berlin
BEGIN:VEVENT
UID:4279@frauenportal.koeln
DTSTART;TZID=Europe/Berlin:20230509T190000
DTEND;TZID=Europe/Berlin:20230509T210000
DTSTAMP:20230430T082018Z
URL:https://frauenportal.koeln/veranstaltungen/menschenrechte-frauenrechte
 /
SUMMARY:Menschenrechte – Frauenrechte
DESCRIPTION:Der mit Maria Mesrian gegründete Verein „Umsteuern! Robin Si
 sterhood e.V“ hat sich dem Thema Menschenrechte verschrieben. Die Forder
 ung nach Gerechtigkeit und Aufklärung an der Seite von und mit den Mensch
 en\, die von der katholischen Kirche missbraucht wurden und werden\, präg
 t die Arbeit der „Sisterhood“. Gehorsamsideale und überkommende Macht
 strukturen in der katholischen Kirche\, ein Verfügen über „den Körper
  der Frauen“ als willfähriges Instrument und das Festhalten an patriach
 alen Strukturen stellt der Verein der dringenden Notwendigkeit von Verantw
 ortungsübernahme\, von längst überfälligen Gewissensfragen und der Ber
 eitschaft\, klar und fair geführte Diskussionen zuzulassen\, gegenüber.\
 n\nReferentin:\nMarie-Sophie Caspar\, Leiterin der Beratungsstelle „Leuc
 htzeichen“ des Vereins Umsteuern! RobinSisterhood e.V.\, www.um-steuern.
 org\n\nVeranstalterin:\nBeginen Köln e.V.\n\nAnsprechpartnerin:\nChristin
 e Müthrath\, Tel.: 0221 / 9655820\, E-Mail: info@beginen.de\n\nKosten:\nK
 ostenbeitrag: 8\,- € / 5\,- €. (Ermäßigte Beiträge gelten für Vere
 insfrauen und Kölnpass-InhaberInnen)
LOCATION:Beginenfenster Köln\, Markmannsgasse 7\, 50667 Köln
GEO:50.936778;6.961977
X-APPLE-STRUCTURED-LOCATION;VALUE=URI;X-ADDRESS=Markmannsgasse 7\, Köln\, 
 50667\, Frauenorganisation\, Deutschland;X-APPLE-RADIUS=100;X-TITLE=Begine
 nfenster Köln:geo:50.936778,6.961977
END:VEVENT
BEGIN:VTIMEZONE
TZID:Europe/Berlin
X-LIC-LOCATION:Europe/Berlin
BEGIN:DAYLIGHT
DTSTART:20230326T030000
TZOFFSETFROM:+0100
TZOFFSETTO:+0200
TZNAME:CEST
END:DAYLIGHT
END:VTIMEZONE
END:VCALENDAR