BEGIN:VCALENDAR
VERSION:2.0
PRODID:-//wp-events-plugin.com//7.2.3.1//EN
TZID:Europe/Berlin
X-WR-TIMEZONE:Europe/Berlin
BEGIN:VEVENT
UID:3744@frauenportal.koeln
DTSTART;TZID=Europe/Berlin:20220505T183000
DTEND;TZID=Europe/Berlin:20220505T203000
DTSTAMP:20220429T101545Z
URL:https://frauenportal.koeln/veranstaltungen/mental-load-exit-fuer-menta
 le-last/
SUMMARY:Mental Load: Exit für mentale Last
DESCRIPTION:Frauen übernehmen den Großteil der Care-Arbeit und Haushaltso
 rganisation. Die To-do-Liste und Entscheidungen wiegen schwer\, um der ges
 ellschaftlich zugeschriebenen Rolle “erfolgreich” zu entsprechen. \n\n
 Susanne Maier beleuchtet mit den Teilnehmerinnen u.a. die Fragen: Was ist 
 Mental Load? Wieso liegt er vor allem bei Frauen? \n\nSusanne Maier ist Re
 ferentin für Gleichstellung an der Verwaltungshochschule BaWü. Sie hält
  Vorträge u.a. für die REWE Group und (verschiedene) Kommunen.\n\nVerans
 talterinnen:\nBPW Germany Club Köln\n\nAnsprechpartnerin:\nJessica Espino
 za\, Tel.: 0152 / 36989084\, E-Mail: bpw-koeln@web.de\n\nKosten /Anmeldung
 :\nKostenbeitrag: 9 Euro. Für Mitglieder ist die Teilnahme kostenlos. \nH
 ier geht es zur Anmeldung: www.eventbrite.de/e/mental-load-exit-fur-mental
 e-last-tickets-314476336187\n\nVeranstaltungsort:\nonline
END:VEVENT
BEGIN:VTIMEZONE
TZID:Europe/Berlin
X-LIC-LOCATION:Europe/Berlin
BEGIN:DAYLIGHT
DTSTART:20220327T030000
TZOFFSETFROM:+0100
TZOFFSETTO:+0200
TZNAME:CEST
END:DAYLIGHT
END:VTIMEZONE
END:VCALENDAR