BEGIN:VCALENDAR
VERSION:2.0
PRODID:-//wp-events-plugin.com//7.2.3.1//EN
TZID:Europe/Berlin
X-WR-TIMEZONE:Europe/Berlin
BEGIN:VEVENT
UID:5218@frauenportal.koeln
DTSTART;TZID=Europe/Berlin:20241029T190000
DTEND;TZID=Europe/Berlin:20241029T210000
DTSTAMP:20241022T101628Z
URL:https://frauenportal.koeln/veranstaltungen/mentoring-event-upleveling-
 mentorship/
SUMMARY:Mentoring Event - Upleveling Mentorship
DESCRIPTION:Aus der Einladung:\n\n"Stell Dir vor\, Du stehst souverän im M
 ittelpunkt Deines beruflichen Umfelds\, Deine Stimme wird gehört\, Deine 
 Ideen bewegen. Du konzentrierst Dich aufs Landen\, denn Fallen ist keine O
 ption. Du hast ein starkes Netzwerk im Rücken und weißt genau\, wohin De
 in Weg Dich führt. \n \nSei dabei: Barbara von der Mark und Katharina Lag
 es-Willner laden zu einem BPW Mentoring Event ein\, das den Grundstein fü
 r Dein Netzwerk legt. Wir schließen das Mentoring Gap!\n\nSichtbarkeit st
 eigern – Inspirationen von Dr. Janina Jentsch:\n- Präsenz in der Gesch
 äftswelt\n- Setze deine Stimme kraftvoll ein\n\nPower of 5:\nUnser Revers
 e Mentoring sorgt für Connections\, die Dich nach vorn bringen.\n\nSicher
  landen:\nWir sprechen über inspirierende Strategien für Deinen Weg an d
 ie Spitze. Positioniere Dich klar und erreiche Deine nächsten Karrierezie
 le!"\n\nVeranstalterinnen:\nBPW Germany Club Köln\n\nAnsprechpartnerin:\n
 Nyelete S. Gonçalves Chilenge\,E-Mail: bpw-koeln@web.de\n\nKosten /Anmeld
 ung:\nMitglieder frei\, Interessentinnen 15 Euro. Anmeldung unter www.even
 tbrite.de/e/mentoring-event-upleveling-mentorship-tickets-1045075207077
LOCATION:Startplatz Köln\, Im Mediapark 5\, 50670 Köln
GEO:50.94857939;6.94487198
X-APPLE-STRUCTURED-LOCATION;VALUE=URI;X-ADDRESS=Im Mediapark 5\, Köln\, 50
 670\, Veranstaltungsort\, Deutschland;X-APPLE-RADIUS=100;X-TITLE=Startplat
 z Köln:geo:50.94857939,6.94487198
END:VEVENT
BEGIN:VTIMEZONE
TZID:Europe/Berlin
X-LIC-LOCATION:Europe/Berlin
BEGIN:STANDARD
DTSTART:20241027T020000
TZOFFSETFROM:+0200
TZOFFSETTO:+0100
TZNAME:CET
END:STANDARD
END:VTIMEZONE
END:VCALENDAR