BEGIN:VCALENDAR
VERSION:2.0
PRODID:-//wp-events-plugin.com//7.2.3.1//EN
TZID:Europe/Berlin
X-WR-TIMEZONE:Europe/Berlin
BEGIN:VEVENT
UID:4680@frauenportal.koeln
DTSTART;TZID=Europe/Berlin:20240204T104500
DTEND;TZID=Europe/Berlin:20240204T121500
DTSTAMP:20240130T155153Z
URL:https://frauenportal.koeln/veranstaltungen/mirjamsonntag-visonaerinnen
 /
SUMMARY:Mirjamsonntag: Visonärinnen gestern und heute
DESCRIPTION:"Ohne Visionen verwildert ein Volk"\nSprüche 29\,18\n\nHier is
 t die Einladung: Mirjamsonntag Kippekausen Februar 2024 (pdf-Datei\, 173 K
 B)\n\nVeranstalterin:\nEv. Kirchengemeinde Bensberg\n\nAnsprechpartnerin:\
 nKarin-D. Witthöft\, Ehrenamtliche Frauenarbeit\, Tel.: 02204 / 61165\, E
 -Mail: K_D.W@web.de
LOCATION:Ev. Gemeindehaus Kippekausen\, Am Rittersteg 1\, 51427 Bergisch-Gl
 adbach
GEO:50.9585;7.1264
X-APPLE-STRUCTURED-LOCATION;VALUE=URI;X-ADDRESS=Am Rittersteg 1\, Bergisch-
 Gladbach\, 51427\, Veranstaltungsort\, Deutschland;X-APPLE-RADIUS=100;X-TI
 TLE=Ev. Gemeindehaus Kippekausen:geo:50.9585,7.1264
END:VEVENT
BEGIN:VTIMEZONE
TZID:Europe/Berlin
X-LIC-LOCATION:Europe/Berlin
BEGIN:STANDARD
DTSTART:20231029T020000
TZOFFSETFROM:+0200
TZOFFSETTO:+0100
TZNAME:CET
END:STANDARD
END:VTIMEZONE
END:VCALENDAR