BEGIN:VCALENDAR
VERSION:2.0
PRODID:-//wp-events-plugin.com//7.2.3.1//EN
TZID:Europe/Berlin
X-WR-TIMEZONE:Europe/Berlin
BEGIN:VEVENT
UID:3344@frauenportal.koeln
DTSTART;TZID=Europe/Berlin:20211027T170000
DTEND;TZID=Europe/Berlin:20211027T200000
DTSTAMP:20230113T105516Z
URL:https://frauenportal.koeln/veranstaltungen/modernes-recruiting-im-gesu
 ndheitswesen/
SUMMARY:Modernes Recruiting im Gesundheitswesen
DESCRIPTION:– Digitales Marketing und Social-Media-Kanäle gekonnt nutzen
  – Ein Workshop für kleine und mittlere Unternehmen aus dem Gesundheits
 wesen –\n\nIn den Gesundheitsberufen steigt der Bedarf an qualifizierten
  Arbeitskräften stetig. Fachkräfte zu gewinnen ist zurzeit in diesem Sek
 tor eine der schwierigsten Aufgaben überhaupt. Damit dies trotzdem geling
 t\, lohnt es sich\, die Attraktivität der Arbeitgeber*innen hervorzuheben
  und moderne Rekrutierungsmethoden zu nutzen.\n\nIn diesem Workshop lernen
  die Teilnehmenden gezielte Strategien zur Gewinnung weiblicher Fachkräft
 e im Gesundheitswesen kennen. Auf einen Impulsvortrag folgt ein interaktiv
 er Ideenparcours zu Themen wie „Attraktivität als Arbeitgeber*in“\, 
 „Präsentation des Unternehmens“ und „Empfehlungsmanagement“. \n\n
 Hier ist die Einladung: Modernes Recruiting im Gesundheitswesen 2021 (pdf-
 Datei: 484 KB)\n\nVeranstalterin:\nCompetentia - Kompetenzzentrum Frau &am
 p\; Beruf Region Köln\, www.competentia-region-koeln.de\, in Kooperation 
 mit der Wirtschaftsförderung Oberbergischer Kreis\, www.wf-obk.de \n\nKon
 takt:\nKompetenzzentrum Frau &amp\; Beruf Region Köln\,  Ulrike Goldbach\
 , Tel.: 0221 / 355065-40\, E-Mail: ulrike.goldbach@stadt-koeln.de\n\nAnmel
 dung:\nBitte per Mail bis 18. Oktober 2021 an competentia@stadt-koeln.de\n
 \nVeranstaltungsort:\nAkademie Gesundheitswirtschaft und Senioren (AGewiS)
 \, Steinmüllerallee 28\, 51643 Gummersbach\, [map id=16795]
END:VEVENT
BEGIN:VTIMEZONE
TZID:Europe/Berlin
X-LIC-LOCATION:Europe/Berlin
BEGIN:DAYLIGHT
DTSTART:20210328T030000
TZOFFSETFROM:+0100
TZOFFSETTO:+0200
TZNAME:CEST
END:DAYLIGHT
END:VTIMEZONE
END:VCALENDAR