BEGIN:VCALENDAR
VERSION:2.0
PRODID:-//wp-events-plugin.com//7.2.3.1//EN
TZID:Europe/Berlin
X-WR-TIMEZONE:Europe/Berlin
BEGIN:VEVENT
UID:4407@frauenportal.koeln
DTSTART;TZID=Europe/Berlin:20230904T170000
DTEND;TZID=Europe/Berlin:20230904T173000
DTSTAMP:20230901T083100Z
URL:https://frauenportal.koeln/veranstaltungen/montagsgebet-fuer-eine-gend
 ergerechte-kirche-5-2023-09-04/
SUMMARY:Montagsgebet für eine gendergerechte Kirche
DESCRIPTION:Der Termin findet nicht statt.Beten für eine geschlechtergerec
 hte Kirche und den Weg dorthin!\n\nVideo-Gebet am Montag: Wegen der Corona
 -Pandemie können die Montagsgebete nicht wie gewohnt vor Groß St. Martin
  in Köln stattfinden.\n\nDie Veranstaltung findet in Form eines Zoom-Vide
 ogespräches statt. \n\nDer kfd-Diözesanverband knüpft mit dem Montagsge
 bet an Maria 2.0 und die Initiative des kfd-Bundesverbandes #MachtLichtAn 
 an. Hunderte kfd-Gruppen\, viele davon im Erzbistum Köln\, haben sich dar
 an beteiligt. Nun geht es darum\, im Bemühen um eine gendergerechte und z
 ukunftsfähige Kirche mit dem Beistand Gottes nicht nachzulassen.\n\nAlle 
 Gläubigen sind eingeladen\, nach dem Vorbild des Donnerstagsgebet der Ben
 ediktinerinen von Kloster Eibingen und Kloster Fahr bei Zürich für eine 
 Erneuerung der Kirche zu beten.\n\nVeranstalterin:\nKatholische Frauengeme
 inschaft Deutschlands (kfd) Diözesanverband Köln e.V.\n\nAnsprechpartner
 in:\nFranziska Osten\, Tel.: 0221 / 1642-1385\, E-Mail: info@kfd-koeln.de\
 n\nAnmeldung:\nDie Einwahldaten sind kurz vor dem Termin hier zu finden: w
 ww.kfd-koeln.de/termine/\n
END:VEVENT
BEGIN:VTIMEZONE
TZID:Europe/Berlin
X-LIC-LOCATION:Europe/Berlin
BEGIN:DAYLIGHT
DTSTART:20230326T030000
TZOFFSETFROM:+0100
TZOFFSETTO:+0200
TZNAME:CEST
END:DAYLIGHT
END:VTIMEZONE
END:VCALENDAR