BEGIN:VCALENDAR
VERSION:2.0
PRODID:-//wp-events-plugin.com//7.2.3.1//EN
TZID:Europe/Berlin
X-WR-TIMEZONE:Europe/Berlin
BEGIN:VEVENT
UID:2092@frauenportal.koeln
DTSTART;TZID=Europe/Berlin:20190923T163000
DTEND;TZID=Europe/Berlin:20190923T173000
DTSTAMP:20190912T162145Z
URL:https://frauenportal.koeln/veranstaltungen/montagsgebet-fuer-eine-gend
 ergerechte-kirche-vor-dem-dom/
SUMMARY:Montagsgebet für eine gendergerechte Kirche vor dem Dom
DESCRIPTION:Die Kirche muss neu werden. Einmal im Monat öffentlich beten v
 or Groß St. Martin für eine gendergerechte Kirche und den richtigen Weg 
 dorthin!\nNach einer Statio vor Groß St. Martin geht es auf die Domplatte
 \, um auch vor dem Hohen Dom zu Köln zu beten.\n\nDer kfd-Diözesanverban
 d knüpft mit dem Montagsgebet an Maria 2.0 und die Initiative des kfd-Bun
 desverbandes #MachtLichtAn an. Hunderte kfd-Gruppen\, viele davon im Erzbi
 stum Köln\, haben sich daran beteiligt. Nun geht es darum\, im Bemühen u
 m eine gendergerechte und zukunftsfähige Kirche mit dem Beistand Gottes n
 icht nachzulassen.\n\nAlle Gläubigen sind eingeladen\, nach dem Vorbild d
 es Donnerstagsgebet der Benediktinerinen von Kloster Eibingen und Kloster 
 Fahr bei Zürich für eine Erneuerung der Kirche zu beten.\n\nVeranstalter
 in: \nKatholische Frauengemeinschaft Deutschlands (kfd) Diözesanverband K
 öln e.V.\n\nAnsprechpartnerin:\nFranziska Osten\, Tel.: 0221 / 1642-1385\
 , E-Mail: info@kfd-koeln.de\n\nVeranstaltungsort:\nvor Groß St. Martin\, 
 gleich neben der kfd-Geschäftsstelle\, An Groß St. Martin 10\, 50667 Kö
 ln\, [map id=11641] 
END:VEVENT
BEGIN:VTIMEZONE
TZID:Europe/Berlin
X-LIC-LOCATION:Europe/Berlin
BEGIN:DAYLIGHT
DTSTART:20190331T030000
TZOFFSETFROM:+0100
TZOFFSETTO:+0200
TZNAME:CEST
END:DAYLIGHT
END:VTIMEZONE
END:VCALENDAR