BEGIN:VCALENDAR
VERSION:2.0
PRODID:-//wp-events-plugin.com//7.2.3.1//EN
TZID:Europe/Berlin
X-WR-TIMEZONE:Europe/Berlin
BEGIN:VEVENT
UID:5192@frauenportal.koeln
DTSTART;TZID=Europe/Berlin;VALUE=DATE:20241129
DTEND;TZID=Europe/Berlin;VALUE=DATE:20241130
DTSTAMP:20240906T132534Z
URL:https://frauenportal.koeln/veranstaltungen/nacht-der-unternehmerinnen-
 jubilaeumsgala-zur-gruendung-des-vdu-vor-70-jahren-in-koeln/
SUMMARY:Nacht der Unternehmerinnen - Jubiläumsgala zur Gründung des VdU v
 or 70 Jahren in Köln
DESCRIPTION:Beginn: 17:30 Uhr\n\nAm 30.11.1954 wurde der Verband der Untern
 ehmerinnen in Deutschland (VdU) in Köln gegründet. Dieses Jubiläum soll
  mit einer „Nacht der Unternehmerinnen" gefeiert werden. Als Ehrengäste
  werden die Oberbürgermeisterin\, Henriette Reker\, und die Präsidentin 
 des Verbandes\, Christina Diem-Puello\, erwartet.\n\nWeitere Infos: https:
 //vdu.powerappsportals.com/event/sessions?id=VdU_Nacht_der_Unternehmerinne
 n_Koeln\n\nVeranstalterin:\nVerband der Unternehmerinnen in Deutschland (V
 dU)\n\nAnsprechpartnerin:\nAnnette Elias\, Tel. 02103 / 97 88 160\, E-Mail
 : annette.elias@vdu.de\n\nKosten / Anmeldung:\nAnmeldelink für das VA-Tic
 ket (130 €): https://vdu.powerappsportals.com/event/registration?id=VdU_
 Nacht_der_Unternehmerinnen_Koeln\n
LOCATION:Gürzenich\, Martinstr. 29-37\, 50667 Köln
GEO:50.936563;6.958383
X-APPLE-STRUCTURED-LOCATION;VALUE=URI;X-ADDRESS=Martinstr. 29-37\, Köln\, 
 50667\, Veranstaltungsort\, Deutschland;X-APPLE-RADIUS=100;X-TITLE=Gürzen
 ich:geo:50.936563,6.958383
END:VEVENT
BEGIN:VTIMEZONE
TZID:Europe/Berlin
X-LIC-LOCATION:Europe/Berlin
BEGIN:STANDARD
DTSTART:20241027T020000
TZOFFSETFROM:+0200
TZOFFSETTO:+0100
TZNAME:CET
END:STANDARD
END:VTIMEZONE
END:VCALENDAR