BEGIN:VCALENDAR
VERSION:2.0
PRODID:-//wp-events-plugin.com//7.2.3.1//EN
TZID:Europe/Berlin
X-WR-TIMEZONE:Europe/Berlin
BEGIN:VEVENT
UID:3810@frauenportal.koeln
DTSTART;TZID=Europe/Berlin:20220820T100000
DTEND;TZID=Europe/Berlin:20220820T120000
DTSTAMP:20220729T105538Z
URL:https://frauenportal.koeln/veranstaltungen/natuerliche-selbstheilungsk
 raefte-durch-schuetteln-und-zittern-aktivieren-3/
SUMMARY:Natürliche Selbstheilungskräfte durch Schütteln und Zittern akti
 vieren
DESCRIPTION:"Tension and Trauma Releasing Exercises" (TRE®) - Körperübun
 gen für die Traumaheilung.\n\nDie körperorientierte Selbsthilfemethode T
 RE® ermöglicht Körper und Psyche zu einem natürlichen Gleichgewicht zu
 rückzukehren. Durch sieben einfache Körperübungen soll ein neurogenes Z
 ittern\, das völlig unwillkürlich geschieht\, hervorgerufen werden\, wel
 ches Stress\, tiefe Anspannungen und Traumata lösen kann.\n\nNach einer k
 urzen theoretischen und praktischen Einführung ins Thema werden die Übun
 gen gemeinsam geübt. Anschließend erfolgt ein Erfahrungsaustausch.\n\nEi
 n telefonisches Vorgespräch mit Frauenleben ist erforderlich\, um zu klä
 ren\, ob TRE für Sie geeignet ist.\n\nReferentin:\nDorothe Weier\, Dipl.S
 ozpäd. und TRE®‑Advanced-Provider\n\nVeranstalterin:\nFrauenLeben e.V.
  Köln\, Frauenberatungsstelle\n\nAnsprechpartnerin:\nMargret Schnetgöke\
 , Tel.: 0221 / 954 16 60\, E-Mail: \nmail@frauenleben.org\nAmeldung / Kost
 en:\nEin tagesaktueller Selbsttest ist verpflichtend. \n\nVeranstaltungsor
 t:\nFrauenLeben\, Venloer Str. 405 - 407\, 50825 Köln\, [map id=889]
END:VEVENT
BEGIN:VTIMEZONE
TZID:Europe/Berlin
X-LIC-LOCATION:Europe/Berlin
BEGIN:DAYLIGHT
DTSTART:20220327T030000
TZOFFSETFROM:+0100
TZOFFSETTO:+0200
TZNAME:CEST
END:DAYLIGHT
END:VTIMEZONE
END:VCALENDAR