BEGIN:VCALENDAR
VERSION:2.0
PRODID:-//wp-events-plugin.com//7.2.3.1//EN
TZID:Europe/Berlin
X-WR-TIMEZONE:Europe/Berlin
BEGIN:VEVENT
UID:1725@frauenportal.koeln
DTSTART;TZID=Europe/Berlin:20190111T190000
DTEND;TZID=Europe/Berlin:20190111T210000
DTSTAMP:20181230T122947Z
URL:https://frauenportal.koeln/veranstaltungen/nehmen-sie-ihre-patientenve
 rfuegung-in-den-blick/
SUMMARY:Nehmen Sie Ihre Patientenverfügung in den Blick!
DESCRIPTION:Inzwischen haben bereits 30 % der Bevölkerung eine Patientenve
 rfügung erstellt. Vielleicht gehören Sie auch dazu und sind froh\, Ihre 
 Wünsche zu medizinischer Behandlung und pflegerischer Versorgung getroffe
 n zu haben. Viele verwenden dafür ein Formular\, das das Abfassen einer V
 erfügung sehr erleichtert. In Deutschland gibt es mittlerweile über 200 
 verschiedene Formulare. Ein Gütesiegel\, das diese Verfügungen kritisch 
 unter die Lupe nimmt\, gibt es dagegen nicht.\n\nEs wird empfohlen\, die U
 nterschrift unter die Patientenverfügung in regelmäßigen Abständen zu 
 erneuern. Diese Veranstaltung will eine Anregung für Sie sein\, die eigen
 e Patientenverfügung wieder einmal in den Blick zu nehmen.\n\nIn dieser V
 eranstaltung\n\n\n    	lernen Sie das Konzept der Patientenverfügung von 
 „Behandlung im Voraus planen“ kennen\,\n\n\n    	erhalten Sie Hinweise
 \, das Formular Ihrer Patientenverfügung in den Blick zu nehmen\,\n\n\n  
   	erfahren Sie\, wie Sie die Wirksamkeit Ihrer Patientenverfügung auch i
 m Notfall erhöhen können.\n\nReferentin:\nIngrid Huwe\, Pastoralreferent
 in und Beauftragte für Ethik im Gesundheitswesen im Erzbistum Köln\n\nVe
 ranstalterinnen:\nBeginen Köln e.V.\n\nAnsprechpartnerinnen:\nChristine M
 üthrath\, Tel.: 0221 / 9655820\, E-Mail: info@beginen.de\n\nKosten / Anme
 ldung:\nKostenbeitrag: 8 € / 5 € ermäßigter Beitrag\nErmäßigte Bei
 träge gelten für Vereinsfrauen und Kölnpass-Inhaber*innen.\n\nVeranstal
 tungsort:\nBeginentreff im Beginenhof Köln\, Unter Linden 119\, 50859 Kö
 ln\, [map id=1048]
END:VEVENT
BEGIN:VTIMEZONE
TZID:Europe/Berlin
X-LIC-LOCATION:Europe/Berlin
BEGIN:STANDARD
DTSTART:20181028T020000
TZOFFSETFROM:+0200
TZOFFSETTO:+0100
TZNAME:CET
END:STANDARD
END:VTIMEZONE
END:VCALENDAR