BEGIN:VCALENDAR
VERSION:2.0
PRODID:-//wp-events-plugin.com//7.2.3.1//EN
TZID:Europe/Berlin
X-WR-TIMEZONE:Europe/Berlin
BEGIN:VEVENT
UID:2424@frauenportal.koeln
DTSTART;TZID=Europe/Berlin:20191004T160000
DTEND;TZID=Europe/Berlin:20191004T190000
DTSTAMP:20200203T105421Z
URL:https://frauenportal.koeln/veranstaltungen/nein-ist-ein-ganzer-satz-se
 lbstschutz-workshop-fuer-frauen/
SUMMARY:"Nein" ist ein ganzer Satz! Selbstschutz Workshop für Frauen.
DESCRIPTION:Es ist schwer\, auf die Wehrhaftigkeit zu vertrauen. Wie kann S
 elbstbehauptung trotzdem gelingen?\nFunktionierende Selbstverteidigung ist
  keine Frage der körperlichen Kraft\, der persönlichen Fitness oder prä
 gender Vorerfahrungen. Jede Frau kann lernen\, in einer bedrohlichen Situa
 tion mit einfachen Mitteln sicher und bestimmt zu handeln.\nDieser Worksho
 p vermittelt in einem geschützten Rahmen geistige und körperliche Fähig
 keiten für einen effektiven Selbstschutz. Alle körperlichen Übungen\, S
 chlag- und Tritttechniken sind für Frauen mit und ohne vorherige Gewalter
 fahrung geeignet.\n\nEine ausreichende Selbstregulierungsfähigkeit ist Vo
 raussetzung für die Teilnahme.\n\nBitte bequeme Kleidung und Wasser mitbr
 ingen!\n\nLeitung: \nMelanie Czarnik\n\nVeranstalterin:\nFrauenLeben e.V. 
 Köln\, Frauenberatungsstelle\n\nAnsprechpartnerin:\nMargret Schnetgöke\,
  Tel.: 0221 / 954 16 60\, E-Mail: \n\nmail@frauenleben.org\n\nAmeldung / K
 osten:\nUm Anmeldung wird gebeten. Das Angebot ist kostenfrei.\n\nVeransta
 ltungsort:\nFrauenLeben\, Venloer Str. 405 - 407\, 50825 Köln\, [map id=8
 89]  
END:VEVENT
BEGIN:VTIMEZONE
TZID:Europe/Berlin
X-LIC-LOCATION:Europe/Berlin
BEGIN:DAYLIGHT
DTSTART:20190331T030000
TZOFFSETFROM:+0100
TZOFFSETTO:+0200
TZNAME:CEST
END:DAYLIGHT
END:VTIMEZONE
END:VCALENDAR