BEGIN:VCALENDAR
VERSION:2.0
PRODID:-//wp-events-plugin.com//7.2.3.1//EN
TZID:Europe/Berlin
X-WR-TIMEZONE:Europe/Berlin
BEGIN:VEVENT
UID:4416@frauenportal.koeln
DTSTART;TZID=Europe/Berlin:20231201T180000
DTEND;TZID=Europe/Berlin:20231201T193000
DTSTAMP:20241115T121711Z
URL:https://frauenportal.koeln/veranstaltungen/nein-zu-gewalt-gottesdienst
 -im-rahmen-der-orange-days-3/
SUMMARY:"Nein zu Gewalt" - Gottesdienst im Rahmen der Orange Days
DESCRIPTION:Gewalt gegen Körper oder Psyche ist immer auch ein Angriff auf
  die Seele. Deshalb sind alle Menschen mit oder ohne Kirchenzugehörigkeit
  herzlich willkommen zu einem Gottesdienst des Kirchenkreises Köln-Rechts
 rheinisch im Rahmen der internationalen "Orange Days" der Vereinten Nation
 en (16 Tagen im Zeichen gegen sexualisierte Gewalt). Am Freitag\, 1.12.202
 3 um 18 Uhr wird in der Ev. Johanneskirche Köln-Brück\, Am Schildchen 15
 \, 51109 Köln das NEIN zu Gewalt an Frauen biblisch bedacht und spirituel
 l gestaltet - für eine Zukunft voller Licht und Zuversicht\, ohne Gewalt\
 , Missbrauch und Benachteiligung aufgrund von Geschlecht oder Geschlechtsz
 uweisung.\nIm Mittelpunkt steht der Mut\, sich aufzurichten und neue Wege 
 zu gehen bzw. von Gewalt Betroffenen zu diesem Mut zu verhelfen. Berichte\
 , Aktion und Gebet werden u.a. musikalisch begleitet vom Gesangs-Ensemble 
 „Die Himmelstöchter“. Mit der Kollekte wird ein rechtsrheinisches Kö
 lner Mut-Mach-Projekt unterstützt. Im Anschluss gibt es Gelegenheit zu Ge
 tränk und Gespräch rund um die Feuerschale.\n\nDie Kirche ist gut zu err
 eichen per KVB Linie 1\, Haltestelle Flehbachstr.\, und z.B. Bus 157\, Hal
 testelle Wiehler Str.\n\nVeranstalterin:\nSynodaler Fachausschuss "Gemeins
 chaft von Frauen und Männern" im Kirchenkreis Köln Rechtsrheinisch (MuF)
 \n\nAnsprechpartnerin:\nKarin-D. Witthöft\, Ehrenamtliche Frauenarbeit\, 
 Tel.: 02204 / 61165\, E-Mail: K_D.W@web.de\n\nKosten / Anmeldung:\nKeine K
 osten.
LOCATION:Ev. Johanneskirche Köln-Brück\, Am Schildchen 15\, 51109 Köln
GEO:50.945494;7.070289
X-APPLE-STRUCTURED-LOCATION;VALUE=URI;X-ADDRESS=Am Schildchen 15\, Köln\, 
 Nordrhein-Westfalen\, 51109\, Veranstaltungsort\, Deutschland;X-APPLE-RADI
 US=100;X-TITLE=Ev. Johanneskirche Köln-Brück:geo:50.945494,7.070289
END:VEVENT
BEGIN:VTIMEZONE
TZID:Europe/Berlin
X-LIC-LOCATION:Europe/Berlin
BEGIN:STANDARD
DTSTART:20231029T020000
TZOFFSETFROM:+0200
TZOFFSETTO:+0100
TZNAME:CET
END:STANDARD
END:VTIMEZONE
END:VCALENDAR