BEGIN:VCALENDAR
VERSION:2.0
PRODID:-//wp-events-plugin.com//7.2.3.1//EN
TZID:Europe/Berlin
X-WR-TIMEZONE:Europe/Berlin
BEGIN:VEVENT
UID:5828@frauenportal.koeln
DTSTART;TZID=Europe/Berlin:20251201T180000
DTEND;TZID=Europe/Berlin:20251201T193000
DTSTAMP:20251125T152850Z
URL:https://frauenportal.koeln/veranstaltungen/nein-zu-gewalt-gottesdienst
 -im-rahmen-der-orange-days-5/
SUMMARY:"Wut und Mut: Nein zu Gewalt an Frauen*"  - Gottesdienst im Rahmen 
 der Orange Days
DESCRIPTION:Seit vielen Jahren rufen die UNWomen zu den "Orange Days"\, 16 
 Tage im Zeichen gegen Gewalt an Frauen*\, auf. Sie beginnen immer am 25.11
 .\, dem Internationalen Tag gegen Gewalt an Frauen\, und enden am 10.12.\,
  dem Internationalen Tag der Menschenrechte. Dann leuchten Gebäude in Ora
 nge\, und auch durch Banner\, orange Kleidung usw. wird ein klares NEIN ge
 zeigt. Orange als Farbe voller Licht und Zuversicht symbolisiert dabei ein
 e Zukunft ohne „genderbasierte Gewalt“\, d.h. ohne Gewalt\, Missbrauch
  und Benachteiligung für Menschen aufgrund ihres Geschlechts oder einer G
 eschlechtszuweisung.\n\nAn diesem Abend wird das NEIN zu Gewalt an Frauen*
  biblisch bedacht und spirituell gestaltet. Diesmal verstärken junge Mens
 chen der Jugendkirche geistreich das bewährte Team und tragen mit Ideen\,
  Wort und Musik zu diesem besonderen Abendgottesdienst über „Wut und Mu
 t“ bei. Im Anschluss besteht Gelegenheit zum Austausch mit heißem Getr
 änk und Snack.\n\nHerzlich willkommen sind alle Menschen\, von überall\,
  mit und ohne Konfession\, gerne mit einem orangen Accessoire oder Kleidun
 gsstück als Zeichen der Solidarität.\n\nHier ist die Einladung: mut_und_
 wut_2025 (pdf-Datei\, 708 KB)\n\nVeranstalterin:\nSynodaler Fachausschuss 
 "Gemeinschaft von Frauen und Männern" im Kirchenkreis Köln Rechtsrheinis
 ch (MuF)\n\nAnsprechpartnerin:\nUlrike Plath\, E-Mail: ulrike.plath@ekir.d
 e
LOCATION:Immanuel-Kirche\, Bonhoefferstr. 8\, 51061 Köln
GEO:50.986231;6.992886
X-APPLE-STRUCTURED-LOCATION;VALUE=URI;X-ADDRESS=Bonhoefferstr. 8\, Köln\, 
 Nordrhein-Westfalen\, 51061\, Veranstaltungsort\, Deutschland;X-APPLE-RADI
 US=100;X-TITLE=Immanuel-Kirche:geo:50.986231,6.992886
END:VEVENT
BEGIN:VTIMEZONE
TZID:Europe/Berlin
X-LIC-LOCATION:Europe/Berlin
BEGIN:STANDARD
DTSTART:20251026T020000
TZOFFSETFROM:+0200
TZOFFSETTO:+0100
TZNAME:CET
END:STANDARD
END:VTIMEZONE
END:VCALENDAR