BEGIN:VCALENDAR
VERSION:2.0
PRODID:-//wp-events-plugin.com//7.2.3.1//EN
TZID:Europe/Berlin
X-WR-TIMEZONE:Europe/Berlin
BEGIN:VEVENT
UID:3405@frauenportal.koeln
DTSTART;TZID=Europe/Berlin:20211130T190000
DTEND;TZID=Europe/Berlin:20211130T203000
DTSTAMP:20241115T123824Z
URL:https://frauenportal.koeln/veranstaltungen/nein-zu-gewalt-gottesdienst
 -im-rahmen-der-orange-days/
SUMMARY:"Nein zu Gewalt" - Gottesdienst im Rahmen der Orange Days
DESCRIPTION:Erstmals lädt der Synodale Fachausschuss "Gemeinschaft von Fra
 uen und Männern" im Evangelischen Kirchenkreis Köln Rechtsrheinisch (MuF
 ) zu einem Gottesdienst ein. Im Rahmen der Orange Days\, der UN-Kampagne 
 ’16 Days of Activism against Gender Violence‘\, wird auch auf der rech
 ten Rheinseite das NEIN zu Gewalt an Frauen biblisch bedacht und spirituel
 l gestaltet. Herzlich willkommen sind alle Menschen mit und ohne Konfessio
 n\, aus allen Enden des Kirchenkreises und weit darüber hinaus.\n\nVerans
 talterin:\nSynodaler Fachausschuss "Gemeinschaft von Frauen und Männern" 
 im Kirchenkreis Köln Rechtsrheinisch (MuF)\n\nAnsprechpartnerin:\nKarin-D
 . Witthöft\, Ehrenamtliche Frauenarbeit\, Tel.: 02204 / 61165\, E-Mail: K
 _D.W@web.de\n\nKosten / Anmeldung:\nKeine Kosten\, 3G-Regel mit Nachweis\,
  Anmeldung erbeten\n\nVeranstaltungsort:\nZeltkirche Kippekausen\, Am Ritt
 ersteg 1\, 51427 Bergisch-Gladbach (Refrath)\, [map id=961]
END:VEVENT
BEGIN:VTIMEZONE
TZID:Europe/Berlin
X-LIC-LOCATION:Europe/Berlin
BEGIN:STANDARD
DTSTART:20211031T020000
TZOFFSETFROM:+0200
TZOFFSETTO:+0100
TZNAME:CET
END:STANDARD
END:VTIMEZONE
END:VCALENDAR