BEGIN:VCALENDAR
VERSION:2.0
PRODID:-//wp-events-plugin.com//7.2.3.1//EN
TZID:Europe/Berlin
X-WR-TIMEZONE:Europe/Berlin
BEGIN:VEVENT
UID:4741@frauenportal.koeln
DTSTART;TZID=Europe/Berlin:20240425T190000
DTEND;TZID=Europe/Berlin:20240425T210000
DTSTAMP:20240328T141203Z
URL:https://frauenportal.koeln/veranstaltungen/networking-event-fuer-lnerd
 s-cyberdykes-und-queere-flinta-in-web-und-techberufen/
SUMMARY:Networking Event für L*Nerds\, Cyberdykes und queere FLINTA in Web
 - und Techberufen
DESCRIPTION:Herzliche Einladung an queere FLINTA in Web- und Techberufen\ni
 m Rahmen der Lesbian Visibility Week Ende April \nzum Networking.\n\nNachd
 em vor vielen Jahren die LesbiansWhoTech-Sektion Köln in den Dornröschen
 schlaf gefallen ist\, soll wieder ein FLINTA-Techie-Netzwerk aufgebaut wer
 den. Es geht ums gegenseitige Kennenlernen\, das Entwicklen von Projektide
 en und darum\, den Kicker zum Pulsieren zu bringen.\n\nMehr dazu: https://
 l-nerd.de\n\nVeranstalterinnen:\nWirtschaftsweiber\nDyke* March Cologne\, 
 www.dykemarchcologne.de\n\nAnsprechpartnerinnen:\nMaria Kunz und Dr. Silke
  Klaes\, E-Mail:\nnrw@wirtschaftsweiber.de\nMaren (Dyke* March Cologne)\, 
 E-Mail: maren@l-nerd.de\n\nAnmeldung:\nBitte eine kurze Mitteilung an: mar
 en@l-nerd.de
LOCATION:Moxy Cologne Muelheim\, Am Kabellager 15\, 51063 Köln
GEO:50.96908;7.010688
X-APPLE-STRUCTURED-LOCATION;VALUE=URI;X-ADDRESS=Am Kabellager 15\, Köln\, 
 Nordrhein-Westfalen\, 51063\, Veranstaltungsort\, Deutschland;X-APPLE-RADI
 US=100;X-TITLE=Moxy Cologne Muelheim:geo:50.96908,7.010688
END:VEVENT
BEGIN:VTIMEZONE
TZID:Europe/Berlin
X-LIC-LOCATION:Europe/Berlin
BEGIN:DAYLIGHT
DTSTART:20240331T030000
TZOFFSETFROM:+0100
TZOFFSETTO:+0200
TZNAME:CEST
END:DAYLIGHT
END:VTIMEZONE
END:VCALENDAR