BEGIN:VCALENDAR
VERSION:2.0
PRODID:-//wp-events-plugin.com//7.2.3.1//EN
TZID:Europe/Berlin
X-WR-TIMEZONE:Europe/Berlin
BEGIN:VEVENT
UID:750@frauenportal.koeln
DTSTART;TZID=Europe/Berlin:20180424T193000
DTEND;TZID=Europe/Berlin:20180424T210000
DTSTAMP:20180312T102508Z
URL:https://frauenportal.koeln/veranstaltungen/netzwerken-fuer-die-macht-g
 emeinsam-veraenderungen-gestalten/
SUMMARY:Netzwerken für die Macht – Gemeinsam Veränderungen gestalten
DESCRIPTION:- AKF-Frühjahrstreffen -\n\nDass Frauen wirksam und kontinuier
 lich netzwerken\, zeigt schon die Vielzahl und Power von Frauenengagement 
 in Frauenzusammenschlüssen\, wie sie das Kölner Frauenportal dokumentier
 t. Aber Frauen netzwerken anders\, mit anderen Zielen und nach anderen Reg
 eln. An diesem Abend werden die unterschiedlichen Herangehensweisen ans Ne
 tzwerken aufgezeigt und die Erkenntnisse daraus gleich in die Tat umgesetz
 t. Dabei wollen wir gemeinsam Zielen näherkommen\, wie mehr Frauen in den
  Parlamenten von Politik und Wirtschaft\, in den Museen\, bei Ehrungen und
  Preisvergaben – an den Schaltstellen von Geld und Macht.\n\nHier ist di
 e Einladung: Netzwerken für die Macht – Gemeinsam Veränderungen gestal
 ten 24.04.2018 (pdf-Datei\, 329 KB)\n\nVeranstalterinnen:\n\n 	Arbeitskrei
 s Kölner Frauenvereinigungen (AKF)\n 	Melanchthon-Akademie Köln\, www.me
 lanchthon-akademie.de\n\nAnsprechpartnerin:\nDr. Marita Alami\, Tel.: 0221
  / 1397550\, E-Mail: info@akf-koeln.de\n\nVeranstaltungsort:\nMelanchthon-
 Akademie Köln\, Kartäuserwall 24b\, 50678 Köln\, [map id=931]
END:VEVENT
BEGIN:VTIMEZONE
TZID:Europe/Berlin
X-LIC-LOCATION:Europe/Berlin
BEGIN:DAYLIGHT
DTSTART:20180325T030000
TZOFFSETFROM:+0100
TZOFFSETTO:+0200
TZNAME:CEST
END:DAYLIGHT
END:VTIMEZONE
END:VCALENDAR