BEGIN:VCALENDAR
VERSION:2.0
PRODID:-//wp-events-plugin.com//7.2.3.1//EN
TZID:Europe/Berlin
X-WR-TIMEZONE:Europe/Berlin
BEGIN:VEVENT
UID:5173@frauenportal.koeln
DTSTART;TZID=Europe/Berlin:20241104T100000
DTEND;TZID=Europe/Berlin:20241104T113000
DTSTAMP:20240828T145217Z
URL:https://frauenportal.koeln/veranstaltungen/neue-kraft-durch-yoga-yoga-
 fuer-frauen-3/
SUMMARY:Neue Kraft durch Yoga – Yoga für Frauen*
DESCRIPTION:Yoga kann helfen\, sich zu entspannen und neue Kraft aufzubauen
  sowohl mental als auch körperlich. Mit Übungen und einem achtsamen Zuga
 ng kann die Freude am eigenen Körper und der Bewegung entdeckt werden.\n\
 nVorkenntnisse sind nicht erforderlich.\n\nLeitung: \nLuca Nävy\, Yogaleh
 rerin\n\nVeranstalterin:\nFrauenLeben e.V. Köln\, Frauenberatungsstelle\n
 \nAnsprechpartnerin:\nMargret Schnetgöke\, Tel.: 0221 / 954 16 60\, E-Mai
 l: \n\nmail@frauenleben.org\n\nAmeldung / Kosten:\nDie Veranstaltung ist k
 ostenfrei. Anmeldung erforderlich. Bitte bequeme Kleidung und Wasser mitbr
 ingen!
LOCATION:FrauenLeben\, Venloer Str. 405-407\, 50825 Köln
GEO:50.95189;6.91379
X-APPLE-STRUCTURED-LOCATION;VALUE=URI;X-ADDRESS=Venloer Str. 405-407\, Köl
 n\, 50825\, Frauenorganisation\, Deutschland;X-APPLE-RADIUS=100;X-TITLE=Fr
 auenLeben:geo:50.95189,6.91379
END:VEVENT
BEGIN:VTIMEZONE
TZID:Europe/Berlin
X-LIC-LOCATION:Europe/Berlin
BEGIN:STANDARD
DTSTART:20241027T020000
TZOFFSETFROM:+0200
TZOFFSETTO:+0100
TZNAME:CET
END:STANDARD
END:VTIMEZONE
END:VCALENDAR