BEGIN:VCALENDAR
VERSION:2.0
PRODID:-//wp-events-plugin.com//7.2.3.1//EN
TZID:Europe/Berlin
X-WR-TIMEZONE:Europe/Berlin
BEGIN:VEVENT
UID:5525@frauenportal.koeln
DTSTART;TZID=Europe/Berlin:20250225T100000
DTEND;TZID=Europe/Berlin:20250225T130000
DTSTAMP:20250129T125233Z
URL:https://frauenportal.koeln/veranstaltungen/neurographik-schnupperkurs-
 im-buergerhaus-stollwerck/
SUMMARY:Neurographik-Schnupperkurs im Bürgerhaus Stollwerck
DESCRIPTION:Bettina Strunk zu ihrem Angebot:\n\n"In diesem Workshop wirst d
 u die kreative Transformationsmethode Neurographik kennenlernen. Du erfäh
 rst einiges über die theoretischen Hintergründe\, vor allem aber zeichne
 st du dein erstes neurographisches Bild\, das dir mehr als eine Ahnung von
  der Wirksamkeit dieser effektiven Methode vermitteln wird. Du wirst staun
 en\, was ein paar Linien bewirken können. Leichtigkeit ist garantiert!\nK
 ünstlerisches Talent ist nicht erforderlich.\n\nWeitere Informationen und
  den Weg zur Anmeldung findest du hier:\n\nhttps://www.sinn-stift-art.de/s
 chnupperkurs-koeln\n\nDeine Investition: 49 € (Kennenlernpreis)\n\nDie T
 eilnehmer*innenzahl ist begrenzt."
END:VEVENT
BEGIN:VTIMEZONE
TZID:Europe/Berlin
X-LIC-LOCATION:Europe/Berlin
BEGIN:STANDARD
DTSTART:20241027T020000
TZOFFSETFROM:+0200
TZOFFSETTO:+0100
TZNAME:CET
END:STANDARD
END:VTIMEZONE
END:VCALENDAR