BEGIN:VCALENDAR
VERSION:2.0
PRODID:-//wp-events-plugin.com//7.2.3.1//EN
TZID:Europe/Berlin
X-WR-TIMEZONE:Europe/Berlin
BEGIN:VEVENT
UID:2865@frauenportal.koeln
DTSTART;TZID=Europe/Berlin:20201024T140000
DTEND;TZID=Europe/Berlin:20201024T163000
DTSTAMP:20200930T130022Z
URL:https://frauenportal.koeln/veranstaltungen/nippes-frauen-auf-der-hoehe
 -4/
SUMMARY:Nippes – Frauen auf der Höhe
DESCRIPTION:Widerstand\, Komik\, Schönheit\n\nNippes ist ein Stadttteil mi
 t Herz und kölschen Tönen. Hier wohnten viele gebildete und mutige Fraue
 n: die widerständige Theologin Ina Gschlößl\, Trude Herr\, die ihr Publ
 ikum zum Lachen und Weinen brachte\, die Meteorologin und Soziologin Hanna
  Meutner sowie Veedelsschönheit Margit Nünke\, die als Miss Germany ihre
 n Traum vom Aufstieg verwirklichte. Berichtet wird über frauentypische Be
 rufe wie die Bibliothekarin und Krankenschwester sowie ihre Nöte. \n\nAns
 chließend wird das Handwerkerinnenhaus besucht\, das teilweise denkmalges
 chützt ist.\n\nVeranstalterin:\nKölner Frauengeschichtsverein e.V.\n\nKo
 ntakt:\nTel.: 0221 / 24 82 65\, E-Mail: info@frauengeschichtsverein.de\n\
 nKosten / Anmeldung:\nKostenbeitrag: 16\,50 Euro inkl. Getränk (coronabed
 ingt)\nAnmeldung erforderlich!\n\nVeranstaltungsort:\nTreffpunkt: U-Bahnha
 ltestelle Florastr. (vor dem Blumengeschäft)\, [map id=973]
END:VEVENT
BEGIN:VTIMEZONE
TZID:Europe/Berlin
X-LIC-LOCATION:Europe/Berlin
BEGIN:DAYLIGHT
DTSTART:20200329T030000
TZOFFSETFROM:+0100
TZOFFSETTO:+0200
TZNAME:CEST
END:DAYLIGHT
END:VTIMEZONE
END:VCALENDAR