BEGIN:VCALENDAR
VERSION:2.0
PRODID:-//wp-events-plugin.com//7.2.3.1//EN
TZID:Europe/Berlin
X-WR-TIMEZONE:Europe/Berlin
BEGIN:VEVENT
UID:5013@frauenportal.koeln
DTSTART;TZID=Europe/Berlin:20240413T140000
DTEND;TZID=Europe/Berlin:20240413T163000
DTSTAMP:20240331T071357Z
URL:https://frauenportal.koeln/veranstaltungen/nippes-frauen-auf-der-hoehe
 -6/
SUMMARY:Nippes – Frauen auf der Höhe
DESCRIPTION:Nippes ist ein Stadttteil mit Herz und kölschen Tönen. Hier l
 ebten selbstbewusste Frauen: die widerständige Theologin Ina Gschlössl\,
  Trude Herr\, die ihr Publikum zum Lachen und zum Weinen brachte\, die Met
 eorologin und Soziologin Hanna Meuter sowie die Veedelsschönheit Margit N
 ünke\, die als Miss Germany ihren Traum verwirklichte. Anschließend wird
  das Handwerkerinnenhaus besucht.\n\nVeranstalterin:\nKölner Frauengeschi
 chtsverein e.V.\n\nKontakt:\nTel.: 0221 / 24 82 65\, E-Mail: info@fraueng
 eschichtsverein.de\n\nKosten / Anmeldung:\nKostenbeitrag: 11\,50 Euro\n\nV
 eranstaltungsort:\nTreffpunkt: U-Bahnhaltestelle Florastr. vor dem Blumeng
 eschäft
LOCATION:U-Bahnhaltestelle Florastr.\, Florastr.\, 50733 Köln
GEO:50.96510307;6.95380926
X-APPLE-STRUCTURED-LOCATION;VALUE=URI;X-ADDRESS=Florastr.\, Köln\, 50733\,
  Veranstaltungsort\, Deutschland;X-APPLE-RADIUS=100;X-TITLE=U-Bahnhalteste
 lle Florastr.:geo:50.96510307,6.95380926
END:VEVENT
BEGIN:VTIMEZONE
TZID:Europe/Berlin
X-LIC-LOCATION:Europe/Berlin
BEGIN:DAYLIGHT
DTSTART:20240331T030000
TZOFFSETFROM:+0100
TZOFFSETTO:+0200
TZNAME:CEST
END:DAYLIGHT
END:VTIMEZONE
END:VCALENDAR