BEGIN:VCALENDAR
VERSION:2.0
PRODID:-//wp-events-plugin.com//7.2.3.1//EN
TZID:Europe/Berlin
X-WR-TIMEZONE:Europe/Berlin
BEGIN:VEVENT
UID:5576@frauenportal.koeln
DTSTART;TZID=Europe/Berlin:20250329T140000
DTEND;TZID=Europe/Berlin:20250329T163000
DTSTAMP:20250228T135134Z
URL:https://frauenportal.koeln/veranstaltungen/nippes-frauen-auf-der-hoehe
 -7/
SUMMARY:Nippes – Frauen auf der Höhe
DESCRIPTION:Nippes ist ein Stadttteil mit Herz und kölschen Tönen. Hier l
 ebten selbstbewusste Frauen: die widerständige Theologin Ina Gschlössl\,
  Trude Herr\, die ihr Publikum zum Lachen und zum Weinen brachte\, die Met
 eorologin und Soziologin Hanna Meuter sowie die Veedelsschönheit Margit N
 ünke\, die als Miss Germany ihren Traum verwirklichte. Zu erfahren ist vo
 n typischen Frauenberufen wie dem der Bibliothekarin und Krankenschwester.
  Anschließend wird das Handwerkerinnenhaus besucht.\n\nVeranstalterin:\nK
 ölner Frauengeschichtsverein e.V.\n\nKontakt:\nTel.: 0221 / 24 82 65\, E-
 Mail: info@frauengeschichtsverein.de\n\nKosten / Anmeldung:\nKostenbeitra
 g: 12 Euro zzgl. 1\,50 Euro Getränk\nTickets: www.qultor.de\n\nTreffpunkt
 :\nU-Bahnhaltestelle Florastr. vor dem Blumengeschäft
LOCATION:U-Bahnhaltestelle Florastr.\, Florastr.\, 50733 Köln
GEO:50.96510307;6.95380926
X-APPLE-STRUCTURED-LOCATION;VALUE=URI;X-ADDRESS=Florastr.\, Köln\, 50733\,
  Veranstaltungsort\, Deutschland;X-APPLE-RADIUS=100;X-TITLE=U-Bahnhalteste
 lle Florastr.:geo:50.96510307,6.95380926
END:VEVENT
BEGIN:VTIMEZONE
TZID:Europe/Berlin
X-LIC-LOCATION:Europe/Berlin
BEGIN:STANDARD
DTSTART:20241027T020000
TZOFFSETFROM:+0200
TZOFFSETTO:+0100
TZNAME:CET
END:STANDARD
END:VTIMEZONE
END:VCALENDAR