BEGIN:VCALENDAR
VERSION:2.0
PRODID:-//wp-events-plugin.com//7.2.3.1//EN
TZID:Europe/Berlin
X-WR-TIMEZONE:Europe/Berlin
BEGIN:VEVENT
UID:3909@frauenportal.koeln
DTSTART;TZID=Europe/Berlin:20221026T190000
DTEND;TZID=Europe/Berlin:20221026T210000
DTSTAMP:20220930T142908Z
URL:https://frauenportal.koeln/veranstaltungen/nlp-info-workshop-online-13
 /
SUMMARY:NLP-Info-Workshop-online
DESCRIPTION:„Schlagfertigkeits-Training mit Fingerspitzengefühl“\n\nJe
 nison Thomkins zu ihrem Angebot:\n\n"'Haben Sie keine Augen im Kopf?' ‚N
 ein\, das sind Glasmurmeln!‘\nDas ist Schlagfertigkeit! In unserer Defin
 ition kein bloßes Zurückschlagen\, sondern humorvolle\, intelligente Kom
 munikation. Wenn du dich bei unfairen Angriffen nicht ärgern und aus der 
 inneren Kraft heraus eine Antwort finden willst\, die den Angreifenden wed
 er beleidigt noch gegen den Kopf stößt\, dann komm’ zu dieser Wortschm
 iede-Werkstatt.\n\nKostenloser Info Workshop zu allen Veranstaltungen im A
 telier!\n\nFür alle Practitioner-\, Master- und 4D-Typologie-Interessiert
 en ist dieser Abend eine gute Gelegenheit\, sich über meine Arbeit und al
 le anderen Fragen bezüglich der Ausbildungen und Bildungsurlaube der komm
 enden Zeit  zu informieren!"\n\nHier geht es zum kostenlosen Ticket: www.e
 ventbrite.de/e/schlagfertigkeits-training-mit-fingerspitzengefuhl-tickets-
 349664424707
END:VEVENT
BEGIN:VTIMEZONE
TZID:Europe/Berlin
X-LIC-LOCATION:Europe/Berlin
BEGIN:DAYLIGHT
DTSTART:20220327T030000
TZOFFSETFROM:+0100
TZOFFSETTO:+0200
TZNAME:CEST
END:DAYLIGHT
END:VTIMEZONE
END:VCALENDAR