BEGIN:VCALENDAR
VERSION:2.0
PRODID:-//wp-events-plugin.com//7.2.3.1//EN
TZID:Europe/Berlin
X-WR-TIMEZONE:Europe/Berlin
BEGIN:VEVENT
UID:2817@frauenportal.koeln
DTSTART;TZID=Europe/Berlin:20200827T190000
DTEND;TZID=Europe/Berlin:20200827T210000
DTSTAMP:20200730T140112Z
URL:https://frauenportal.koeln/veranstaltungen/nlp-info-workshop-online-2/
SUMMARY:NLP-Info-Workshop online
DESCRIPTION:Jenison Thomkins zu ihrem Angebot:\n\n"Ruck-Zuck gut Draufsein 
 – wie geht das? – Kostenloser NLP-Info-Workshop-online\n\nWie du in K
 ürze deine Stimmung verbessern kannst? NLP bietet dir eine Fülle von eff
 ektiven Methoden\, die ich an diesem Abend zeige. Sind wir in einem guten 
 State\, gelingt uns alles. Sind wir traurig\, müde\, gehetzt oder ängstl
 ich\, schalten wir auf Notaggregat. Wie du nach einem Schreck\, Ärger ode
 r Frust schnell wieder ins Lot kommst\, zeige ich dir mit NLP-Emotionsmana
 gement!\n\nKostenloser Info Workshop zu allen Veranstaltungen im Atelier!\
 n\nDieser Workshop findet Online statt!\n\nFür alle NLP-Interessierten\, 
 Practitioner-\, Master- und 4D-Typologie-Teilnehmer*innen und Gäste ist d
 ieser Abend eine gute Gelegenheit\, sich über NLP\, meine Arbeit und alle
  deine Fragen bezüglich der Ausbildungen und Bildungsurlaube der kommende
 n Zeit zu informieren!\n\nWas geschieht beim NLP-Info-Workshop?\n\n 	Ankom
 men\, Kaffee und Tee trinken\n 	Trainer\, Assistent-Innen und andere nette
  Menschen kennenlernen\n 	theoretische Einführung ins NLP-Thema\n 	Prakti
 sche Übung mit persönlichem Feedback\n 	allgemeine Infos zu NLP und den 
 aktuellen Ausbildungen und Workshops im Atelier für NLP&amp\;Persönlichk
 eitsentwicklung"\n\nAnmeldelink: www.eventbrite.de\n\nMehr Infos bei: Jeni
 son Thomkins
END:VEVENT
BEGIN:VTIMEZONE
TZID:Europe/Berlin
X-LIC-LOCATION:Europe/Berlin
BEGIN:DAYLIGHT
DTSTART:20200329T030000
TZOFFSETFROM:+0100
TZOFFSETTO:+0200
TZNAME:CEST
END:DAYLIGHT
END:VTIMEZONE
END:VCALENDAR