BEGIN:VCALENDAR
VERSION:2.0
PRODID:-//wp-events-plugin.com//7.2.3.1//EN
TZID:Europe/Berlin
X-WR-TIMEZONE:Europe/Berlin
BEGIN:VEVENT
UID:2873@frauenportal.koeln
DTSTART;TZID=Europe/Berlin:20201029T190000
DTEND;TZID=Europe/Berlin:20201029T210000
DTSTAMP:20200930T143900Z
URL:https://frauenportal.koeln/veranstaltungen/nlp-info-workshop-online-4/
SUMMARY:NLP-Info-Workshop online
DESCRIPTION:Jenison Thomkins zu ihrem Angebot:\n\n"Fremd- und Selbstbild 
 – deine Wirkung auf andere – NLP-Info-Workshop\n\nUnser Selbstbild bes
 teht aus bewussten und unbewussten Anteilen. Am Liebsten nehmen wir an uns
  die positiven Seiten wahr. Die ungeliebten Anteile würden wir gern verdr
 ängen oder unter den Teppich kehren! Vor ihnen fürchten wir uns und ande
 re dürfen sie nicht sehen. Das sind unsere Lebenslügen und sie werden zu
  unseren Energiemustern. Was ist dein blinder Fleck\, was sieht man dir an
  und wie fühlst du dich damit?\n\nMethodische Info:\nNLP geht den Dingen 
 auf den Grund.\nAuch beim Problem des ‚Festhalten-Wollens‘ geht es im 
 1. Schritt darum\, das zugrundeliegende Bedürfnis zu finden\, das von Men
 sch zu Mensch unterschiedlich sein kann.\n\nIm 2. Schritt wird eine stimmi
 ge Verhaltens-Alternative gesucht und integriert\, die das Gefühl von Man
 gel verschwinden lässt! Dann ist das Loslassen kein Problem mehr:-)\n\nKo
 stenloser Info Workshop zu allen Veranstaltungen im Atelier!\n\nFür alle 
 Practitioner- und Master-Interessierten ist dieser Abend eine gute Gelegen
 heit\, sich über unsere Arbeit und alle anderen Fragen bezüglich der Aus
 bildung zu informieren!\n\nWas geschieht beim NLP-Info-Workshop?\n\n 	Anko
 mmen\, Tee trinken\n 	Trainer\, Assistent-Innen und andere nette Menschen 
 kennenlernen\n 	Praktische Übung mit persönlichem Feedback\ntheoretische
  Einführung ins NLP-Thema\, insbesondere in das Masterprogramm\n 	allgeme
 ine Infos zu NLP und den aktuellen Ausbildungen und Workshops im Atelier f
 ür NLP&amp\;Persönlichkeitsentwicklung"\n\n\nMehr Infos bei: Jenison Tho
 mkins
END:VEVENT
BEGIN:VTIMEZONE
TZID:Europe/Berlin
X-LIC-LOCATION:Europe/Berlin
BEGIN:STANDARD
DTSTART:20201025T020000
TZOFFSETFROM:+0200
TZOFFSETTO:+0100
TZNAME:CET
END:STANDARD
END:VTIMEZONE
END:VCALENDAR