BEGIN:VCALENDAR
VERSION:2.0
PRODID:-//wp-events-plugin.com//7.2.3.1//EN
TZID:Europe/Berlin
X-WR-TIMEZONE:Europe/Berlin
BEGIN:VEVENT
UID:3692@frauenportal.koeln
DTSTART;TZID=Europe/Berlin:20220302T190000
DTEND;TZID=Europe/Berlin:20220302T210000
DTSTAMP:20220314T104747Z
URL:https://frauenportal.koeln/veranstaltungen/nlp-info-workshop-online-6/
SUMMARY:NLP-Info-Workshop-online
DESCRIPTION:Yes I Can – Wie du dich selbst motivierst.\n\nJenison Thomkin
 s zu ihrem Angebot:\n\n"Wofür möchtest du dich motivieren?\n\nDich selbs
 t antreiben – ohne getrieben zu sein! Dich aufraffen und es wirklich mit
  Freude tun? Das geht! Barack Obama hat es Amerika vorgemacht: Yes we can!
 \n\nWir können viel mehr\, als wir glauben!\n\nHier bekommst du dein kost
 enloses Ticket:" www.eventbrite.de/e/yes-i-can-wie-du-dich-selbst-motivier
 st-nlp-info-workshop-online-tickets-233792047307\n
END:VEVENT
BEGIN:VTIMEZONE
TZID:Europe/Berlin
X-LIC-LOCATION:Europe/Berlin
BEGIN:STANDARD
DTSTART:20211031T020000
TZOFFSETFROM:+0200
TZOFFSETTO:+0100
TZNAME:CET
END:STANDARD
END:VTIMEZONE
END:VCALENDAR