BEGIN:VCALENDAR
VERSION:2.0
PRODID:-//wp-events-plugin.com//7.2.3.1//EN
TZID:Europe/Berlin
X-WR-TIMEZONE:Europe/Berlin
BEGIN:VEVENT
UID:2811@frauenportal.koeln
DTSTART;TZID=Europe/Berlin:20200830T140000
DTEND;TZID=Europe/Berlin:20200830T153000
DTSTAMP:20200730T130032Z
URL:https://frauenportal.koeln/veranstaltungen/nur-eine-rose-als-stuetze-6
 /
SUMMARY:Nur eine Rose als Stütze
DESCRIPTION:- Hilde Domin und das deutsche Wort -\n\nIhr Leben beschrieb si
 e als »Sprachodyssee«\, als Wandern von einer Sprache in die andere. Auf
 gewachsen im Kölner Agnesviertel ging sie zum Studium nach Heidelberg und
  Italien. 1940 emigrierte sie mit ihrem Mann über England in ihr endgült
 iges Exilland\, die Dominikanische Republik. Hilde Domin jonglierte mit de
 n Sprachen\, besonders mit denen ihrer Exilländer.\n\nAusgelöst durch ei
 ne schwere Krise kam sie zum Schreiben: "Da stand ich auf und ging heim\, 
 in das Wort … Das Wort aber war das deutsche Wort." 1959 erschien in Deu
 tschland ihr erster viel beachteter Gedichtband "Nur eine Rose als Stütze
 ". Ihre Dichtung war engagiert\, politisch\, kreativ und gleichzeitig einf
 ach. Bis ins hohe Alter unternahm sie Lesereisen – auch nach Köln.\n\nS
 tadtrundgang im Agnesviertel mit Ende im blühenden Rosengarten des Forts 
 X.\n\nVeranstalterin:\nKölner Frauengeschichtsverein e.V.\n\nKontakt:\nTe
 l.: 0221 / 24 82 65\, E-Mail: info@frauengeschichtsverein.de\n\nKosten / 
 Anmeldung:\nKostenbeitrag (coronabedingt): 15 Euro\nAnmeldung erforderlich
 !\n\nVeranstaltungsort:\nTreffpunkt: 14.00 Uhr\, Riehler Str. 23\, 50670 K
 öln\, [map id=957]
END:VEVENT
BEGIN:VTIMEZONE
TZID:Europe/Berlin
X-LIC-LOCATION:Europe/Berlin
BEGIN:DAYLIGHT
DTSTART:20200329T030000
TZOFFSETFROM:+0100
TZOFFSETTO:+0200
TZNAME:CEST
END:DAYLIGHT
END:VTIMEZONE
END:VCALENDAR