BEGIN:VCALENDAR
VERSION:2.0
PRODID:-//wp-events-plugin.com//7.2.3.1//EN
TZID:Europe/Berlin
X-WR-TIMEZONE:Europe/Berlin
BEGIN:VEVENT
UID:5618@frauenportal.koeln
DTSTART;TZID=Europe/Berlin:20250403T000000
DTEND;TZID=Europe/Berlin:20250403T000000
DTSTAMP:20250929T163128Z
URL:https://frauenportal.koeln/veranstaltungen/nur-ja-heisst-ja-frauenbera
 tungsstellen-fuer-ein-gewaltfreies-leben-von-frauen-und-maedchen/
SUMMARY:Nur Ja heißt Ja! – Frauenberatungsstellen für ein gewaltfreies 
 Leben von Frauen und Mädchen
DESCRIPTION:1981 gründeten engagierte Frauen* die erste Frauenberatungsste
 lle in Köln. Heute ist der Verein bekannt unter dem Namen FrauenLeben e.V
 . – ein Ort\, der bis heute eine sichere Anlaufstelle für unzählige Un
 terstützung suchende Frauen ist.\n\nDamals wie heute ist essentiell\, fü
 r Frauen* einen eigenen Raum zu schaffen\, auf Diskriminierung und Unterdr
 ückung von Frauen* aufmerksam zu machen und diesen Benachteiligungen sowo
 hl gesellschaftlich als auch politisch entgegenzutreten.\n\nGemeisam soll 
 darüber gesprochen werden\, was dies genau heißt und warum diese Arbeit 
 nach wie vor so wichtig ist\, auch wenn es nicht leichter geworden ist\, s
 ie strukturell sicher aufrechtzuerhalten und weiterzuentwickeln.\n\nVerans
 talterinnen:\nVHS Köln\, www.vhs-koeln.de\, in Kooperation mit FrauenLebe
 n e.V. Köln\, Frauenberatungsstelle\n\nAnsprechpartnerin:\nMargret Schnet
 göke\, Tel.: 0221 / 954 16 60\, E-Mail:\nmail@frauenleben.org\n&nbsp\;\nK
 osten / Anmeldung:\nDas Angebot ist kostenfrei.
LOCATION:VHS Studienhaus Neumarkt\, Cäcilienstr. 35\, 50667 Köln
GEO:50.934929;6.949986800000033
X-APPLE-STRUCTURED-LOCATION;VALUE=URI;X-ADDRESS=Cäcilienstr. 35\, Köln\, 
 50667\, Veranstaltungsort\, Deutschland;X-APPLE-RADIUS=100;X-TITLE=VHS Stu
 dienhaus Neumarkt:geo:50.934929,6.949986800000033
END:VEVENT
BEGIN:VTIMEZONE
TZID:Europe/Berlin
X-LIC-LOCATION:Europe/Berlin
BEGIN:DAYLIGHT
DTSTART:20250330T030000
TZOFFSETFROM:+0100
TZOFFSETTO:+0200
TZNAME:CEST
END:DAYLIGHT
END:VTIMEZONE
END:VCALENDAR