BEGIN:VCALENDAR
VERSION:2.0
PRODID:-//wp-events-plugin.com//7.2.3.1//EN
TZID:Europe/Berlin
X-WR-TIMEZONE:Europe/Berlin
BEGIN:VEVENT
UID:2324@frauenportal.koeln
DTSTART;TZID=Europe/Berlin:20200318T173000
DTEND;TZID=Europe/Berlin:20200318T210000
DTSTAMP:20200316T145859Z
URL:https://frauenportal.koeln/veranstaltungen/oase-am-abend-2-2020-03-18/
SUMMARY:Oase am Abend
DESCRIPTION:Der Termin findet nicht statt.\n\nEine Oase am Abend inmitten a
 ller Verpflichtungen. Beruf\, Familie\, Ehrenamt nehmen viel Zeit in Anspr
 uch und manchmal fehlt dann die Zeit für etwas ganz Eigenes. Die Oase am 
 Abend soll eine "Insel der Inspiration" sein und helfen auf andere Gedanke
 n zu kommen\, Interessen zu vertiefen oder etwas ganz Neues kennenzulernen
  oder sich einfach fortzubilden. Alles in der angenehmen kfd-Atmosphäre u
 nter gleichgesinnten Frauen\, die einander unterstützen.\n\nHier ist das 
 Jahresprogramm: Oase am Abend 2019\n\nVeranstalterin:\nKatholische Fraueng
 emeinschaft Deutschlands\, Diözesanverband Köln\n\nAnsprechpartnerin:\nF
 ranziska Osten\, Tel.: 0221 / 1642-1385\, E-Mail: info@kfd-koeln.de\n\nKos
 ten / Anmeldung:\nKeine Teilnahmebeitrag\, Spenden gerne.\n\nVeranstaltung
 sort:\nkfd-Geschäftsstelle\, An Groß St. Martin 10\, 50667 Köln [map id
 =11641]
END:VEVENT
BEGIN:VTIMEZONE
TZID:Europe/Berlin
X-LIC-LOCATION:Europe/Berlin
BEGIN:STANDARD
DTSTART:20191027T020000
TZOFFSETFROM:+0200
TZOFFSETTO:+0100
TZNAME:CET
END:STANDARD
END:VTIMEZONE
END:VCALENDAR